BEGIN:VCALENDAR
VERSION:2.0
PRODID:-//Spectrum Creative Arts - ECPv6.15.18//NONSGML v1.0//EN
CALSCALE:GREGORIAN
METHOD:PUBLISH
X-ORIGINAL-URL:https://spectrumcreativearts.org
X-WR-CALDESC:Events for Spectrum Creative Arts
REFRESH-INTERVAL;VALUE=DURATION:PT1H
X-Robots-Tag:noindex
X-PUBLISHED-TTL:PT1H
BEGIN:VTIMEZONE
TZID:UTC
BEGIN:STANDARD
TZOFFSETFROM:+0000
TZOFFSETTO:+0000
TZNAME:UTC
DTSTART:20190101T000000
END:STANDARD
END:VTIMEZONE
BEGIN:VEVENT
DTSTART;TZID=UTC:20201215T180000
DTEND;TZID=UTC:20201215T190000
DTSTAMP:20260424T030629
CREATED:20201118T000752Z
LAST-MODIFIED:20201118T003715Z
UID:10000003-1608055200-1608058800@spectrumcreativearts.org
SUMMARY:Light a Candle Virtual Recital and Holiday Sing-A-Long
DESCRIPTION:
URL:https://spectrumcreativearts.org/event/light-a-candle-virtual-recital-and-holiday-sing-a-long/
LOCATION:Zoom
CATEGORIES:Performance
ATTACH;FMTTYPE=image/jpeg:https://spectrumcreativearts.org/wp-content/uploads/2020/11/Light-a-Candle.jpg
END:VEVENT
BEGIN:VEVENT
DTSTART;TZID=UTC:20201027T180000
DTEND;TZID=UTC:20201027T190000
DTSTAMP:20260424T030629
CREATED:20200918T212902Z
LAST-MODIFIED:20200918T212902Z
UID:10000002-1603821600-1603825200@spectrumcreativearts.org
SUMMARY:Spooktacular Virtual Recital: Section II
DESCRIPTION:
URL:https://spectrumcreativearts.org/event/spooktacular-virtual-recital-section-ii/
LOCATION:Zoom
CATEGORIES:Performance
ATTACH;FMTTYPE=image/jpeg:https://spectrumcreativearts.org/wp-content/uploads/2020/09/Spooktacular-Virtual-Recital.jpg
END:VEVENT
BEGIN:VEVENT
DTSTART;TZID=UTC:20201020T180000
DTEND;TZID=UTC:20201020T190000
DTSTAMP:20260424T030629
CREATED:20200918T212655Z
LAST-MODIFIED:20200918T212655Z
UID:10000046-1603216800-1603220400@spectrumcreativearts.org
SUMMARY:Spooktacular Virtual Recital: Section I
DESCRIPTION:
URL:https://spectrumcreativearts.org/event/spooktacular-virtual-recital-section-i/
LOCATION:Zoom
CATEGORIES:Performance
ATTACH;FMTTYPE=image/jpeg:https://spectrumcreativearts.org/wp-content/uploads/2020/09/Spooktacular-Virtual-Recital.jpg
END:VEVENT
END:VCALENDAR