BEGIN:VCALENDAR
VERSION:2.0
PRODID:-//Spectrum Creative Arts - ECPv6.15.18//NONSGML v1.0//EN
CALSCALE:GREGORIAN
METHOD:PUBLISH
X-WR-CALNAME:Spectrum Creative Arts
X-ORIGINAL-URL:https://spectrumcreativearts.org
X-WR-CALDESC:Events for Spectrum Creative Arts
REFRESH-INTERVAL;VALUE=DURATION:PT1H
X-Robots-Tag:noindex
X-PUBLISHED-TTL:PT1H
BEGIN:VTIMEZONE
TZID:UTC
BEGIN:STANDARD
TZOFFSETFROM:+0000
TZOFFSETTO:+0000
TZNAME:UTC
DTSTART:20200101T000000
END:STANDARD
END:VTIMEZONE
BEGIN:VEVENT
DTSTART;TZID=UTC:20230627T060000
DTEND;TZID=UTC:20230627T200000
DTSTAMP:20260424T001845
CREATED:20230615T222554Z
LAST-MODIFIED:20230615T222554Z
UID:10000163-1687845600-1687896000@spectrumcreativearts.org
SUMMARY:Summer Student Showcase @ Homesteads for Hope
DESCRIPTION:
URL:https://spectrumcreativearts.org/event/summer-student-showcase-homesteads-for-hope/
LOCATION:Homesteads for Hope\, 2185 Manitou Rd\, Rochester\, NY\, 14606\, United States
CATEGORIES:Community Event,Performance
ATTACH;FMTTYPE=image/png:https://spectrumcreativearts.org/wp-content/uploads/2023/06/Homesteads-for-Hope-Showcase-2.png
END:VEVENT
BEGIN:VEVENT
DTSTART;TZID=UTC:20220629T170000
DTEND;TZID=UTC:20220629T200000
DTSTAMP:20260424T001845
CREATED:20220928T171201Z
LAST-MODIFIED:20220928T171201Z
UID:10000153-1656522000-1656532800@spectrumcreativearts.org
SUMMARY:Summer Student Showcase at Homesteads for Hope
DESCRIPTION:
URL:https://spectrumcreativearts.org/event/summer-student-showcase-at-homesteads-for-hope/
LOCATION:Homesteads for Hope\, 2185 Manitou Rd\, Rochester\, NY\, 14606\, United States
CATEGORIES:Performance
END:VEVENT
BEGIN:VEVENT
DTSTART;TZID=UTC:20210826T170000
DTEND;TZID=UTC:20210826T190000
DTSTAMP:20260424T001845
CREATED:20210713T003739Z
LAST-MODIFIED:20210713T003739Z
UID:10000150-1629997200-1630004400@spectrumcreativearts.org
SUMMARY:Student Showcase @ Homesteads for Hope
DESCRIPTION:We are delighted to welcome our students and families back to our first in-person student showcase since March 2020. \nWe’ll be hosting this event outdoors at Homesteads for Hope\, a community farm that offers agriculture and nature-based programming for adults with developmental disabilities. \nAttendees are encouraged to bring lawn chairs and/or blankets to the event. \nIn an effort to accommodate all of our interested performers\, we have broken the showcase into two sections – the first from 5:00 – 6:00\, and the second from 6:00 – 7:00. There will be a brief break between each section. Students and audience members are welcome to stay for both sections\, or leave during the break.
URL:https://spectrumcreativearts.org/event/student-showcase-homesteads-for-hope/
LOCATION:Homesteads for Hope\, 2185 Manitou Rd\, Rochester\, NY\, 14606\, United States
CATEGORIES:Community Event,Performance
ATTACH;FMTTYPE=image/jpeg:https://spectrumcreativearts.org/wp-content/uploads/2021/07/Orange-and-Blue-Piano-Keys-Classical-Concert-Program.jpg
END:VEVENT
END:VCALENDAR