BEGIN:VCALENDAR
VERSION:2.0
PRODID:-//Spectrum Creative Arts - ECPv6.15.18//NONSGML v1.0//EN
CALSCALE:GREGORIAN
METHOD:PUBLISH
X-WR-CALNAME:Spectrum Creative Arts
X-ORIGINAL-URL:https://spectrumcreativearts.org
X-WR-CALDESC:Events for Spectrum Creative Arts
REFRESH-INTERVAL;VALUE=DURATION:PT1H
X-Robots-Tag:noindex
X-PUBLISHED-TTL:PT1H
BEGIN:VTIMEZONE
TZID:UTC
BEGIN:STANDARD
TZOFFSETFROM:+0000
TZOFFSETTO:+0000
TZNAME:UTC
DTSTART:20240101T000000
END:STANDARD
END:VTIMEZONE
BEGIN:VEVENT
DTSTART;TZID=UTC:20250926T180000
DTEND;TZID=UTC:20250926T190000
DTSTAMP:20260423T225642
CREATED:20250821T221555Z
LAST-MODIFIED:20250821T221555Z
UID:10000178-1758909600-1758913200@spectrumcreativearts.org
SUMMARY:Rhythm Remix: A Social Drumming Group with Blue Heron Collective
DESCRIPTION:Spectrum Creative Arts is partnering with Blue Heron Collective to host a fun\, inclusive evening of rhythm and connection! Join us on Friday\, September 26th from 6:00–7:00 PM at Blue Heron Collective for a group drumming event. Together we’ll drum along to favorite pop hits in a laid-back\, welcoming environment — no experience needed! \nEvent Details:📅 Date: Friday\, September 26th\, 2025🕕 Time: 6:00–7:00 PM📍 Location: Blue Heron Collective\, 86 South Union Street💲 Cost: $12 per participant (instruments provided) \n👉 Register now to reserve your spot: https://pci.jotform.com/form/252325817795063 \nSpace is limited — sign up today and come join the beat!
URL:https://spectrumcreativearts.org/event/rhythm-remix-a-social-drumming-group-with-blue-heron-collective/
LOCATION:Blue Heron Collective\, 86 South Union Street\, Spencerport\, NY\, 14559\, United States
CATEGORIES:Community Event
ATTACH;FMTTYPE=image/png:https://spectrumcreativearts.org/wp-content/uploads/2025/08/Rhythm-Remix-Group-Drumming-w-SCA-and-Blue-Heron-1920-x-1080-px.png
END:VEVENT
END:VCALENDAR