BEGIN:VCALENDAR
VERSION:2.0
PRODID:-//Spectrum Creative Arts - ECPv6.15.18//NONSGML v1.0//EN
CALSCALE:GREGORIAN
METHOD:PUBLISH
X-WR-CALNAME:Spectrum Creative Arts
X-ORIGINAL-URL:https://spectrumcreativearts.org
X-WR-CALDESC:Events for Spectrum Creative Arts
REFRESH-INTERVAL;VALUE=DURATION:PT1H
X-Robots-Tag:noindex
X-PUBLISHED-TTL:PT1H
BEGIN:VTIMEZONE
TZID:UTC
BEGIN:STANDARD
TZOFFSETFROM:+0000
TZOFFSETTO:+0000
TZNAME:UTC
DTSTART:20250101T000000
END:STANDARD
END:VTIMEZONE
BEGIN:VEVENT
DTSTART;TZID=UTC:20260430T110000
DTEND;TZID=UTC:20260430T115000
DTSTAMP:20260423T121426
CREATED:20250915T212131Z
LAST-MODIFIED:20250915T213927Z
UID:10000981-1777546800-1777549800@spectrumcreativearts.org
SUMMARY:Open Art
DESCRIPTION:This course will teach students to learn how artists navigate the creative process. This is an opportunity to be immersed in creativity and instruction. We will explore the Elements and Principles of art and how artists use them to create art. These Elements and Principles; line\, shape\, color\, value\, shape\, texture\, pattern\, to name a few\, are to ART like words are to a SENTENCE.Click for more Info!
URL:https://spectrumcreativearts.org/event/open-art-2/2026-04-30/
LOCATION:Spectrum Creative Arts\, 3300 Monroe Avenue\, Rochester\, NY\, 14618\, United States
END:VEVENT
BEGIN:VEVENT
DTSTART;TZID=UTC:20260507T110000
DTEND;TZID=UTC:20260507T115000
DTSTAMP:20260423T121426
CREATED:20250915T212131Z
LAST-MODIFIED:20250915T213927Z
UID:10000982-1778151600-1778154600@spectrumcreativearts.org
SUMMARY:Open Art
DESCRIPTION:This course will teach students to learn how artists navigate the creative process. This is an opportunity to be immersed in creativity and instruction. We will explore the Elements and Principles of art and how artists use them to create art. These Elements and Principles; line\, shape\, color\, value\, shape\, texture\, pattern\, to name a few\, are to ART like words are to a SENTENCE.Click for more Info!
URL:https://spectrumcreativearts.org/event/open-art-2/2026-05-07/
LOCATION:Spectrum Creative Arts\, 3300 Monroe Avenue\, Rochester\, NY\, 14618\, United States
END:VEVENT
BEGIN:VEVENT
DTSTART;TZID=UTC:20260514T110000
DTEND;TZID=UTC:20260514T115000
DTSTAMP:20260423T121426
CREATED:20250915T212131Z
LAST-MODIFIED:20250915T213927Z
UID:10000983-1778756400-1778759400@spectrumcreativearts.org
SUMMARY:Open Art
DESCRIPTION:This course will teach students to learn how artists navigate the creative process. This is an opportunity to be immersed in creativity and instruction. We will explore the Elements and Principles of art and how artists use them to create art. These Elements and Principles; line\, shape\, color\, value\, shape\, texture\, pattern\, to name a few\, are to ART like words are to a SENTENCE.Click for more Info!
URL:https://spectrumcreativearts.org/event/open-art-2/2026-05-14/
LOCATION:Spectrum Creative Arts\, 3300 Monroe Avenue\, Rochester\, NY\, 14618\, United States
END:VEVENT
BEGIN:VEVENT
DTSTART;TZID=UTC:20260521T110000
DTEND;TZID=UTC:20260521T115000
DTSTAMP:20260423T121426
CREATED:20250915T212131Z
LAST-MODIFIED:20250915T213927Z
UID:10000984-1779361200-1779364200@spectrumcreativearts.org
SUMMARY:Open Art
DESCRIPTION:This course will teach students to learn how artists navigate the creative process. This is an opportunity to be immersed in creativity and instruction. We will explore the Elements and Principles of art and how artists use them to create art. These Elements and Principles; line\, shape\, color\, value\, shape\, texture\, pattern\, to name a few\, are to ART like words are to a SENTENCE.Click for more Info!
URL:https://spectrumcreativearts.org/event/open-art-2/2026-05-21/
LOCATION:Spectrum Creative Arts\, 3300 Monroe Avenue\, Rochester\, NY\, 14618\, United States
END:VEVENT
BEGIN:VEVENT
DTSTART;TZID=UTC:20260528T110000
DTEND;TZID=UTC:20260528T115000
DTSTAMP:20260423T121426
CREATED:20250915T212131Z
LAST-MODIFIED:20250915T213927Z
UID:10000985-1779966000-1779969000@spectrumcreativearts.org
SUMMARY:Open Art
DESCRIPTION:This course will teach students to learn how artists navigate the creative process. This is an opportunity to be immersed in creativity and instruction. We will explore the Elements and Principles of art and how artists use them to create art. These Elements and Principles; line\, shape\, color\, value\, shape\, texture\, pattern\, to name a few\, are to ART like words are to a SENTENCE.Click for more Info!
URL:https://spectrumcreativearts.org/event/open-art-2/2026-05-28/
LOCATION:Spectrum Creative Arts\, 3300 Monroe Avenue\, Rochester\, NY\, 14618\, United States
END:VEVENT
BEGIN:VEVENT
DTSTART;TZID=UTC:20260604T110000
DTEND;TZID=UTC:20260604T115000
DTSTAMP:20260423T121426
CREATED:20250915T212131Z
LAST-MODIFIED:20250915T213927Z
UID:10000986-1780570800-1780573800@spectrumcreativearts.org
SUMMARY:Open Art
DESCRIPTION:This course will teach students to learn how artists navigate the creative process. This is an opportunity to be immersed in creativity and instruction. We will explore the Elements and Principles of art and how artists use them to create art. These Elements and Principles; line\, shape\, color\, value\, shape\, texture\, pattern\, to name a few\, are to ART like words are to a SENTENCE.Click for more Info!
URL:https://spectrumcreativearts.org/event/open-art-2/2026-06-04/
LOCATION:Spectrum Creative Arts\, 3300 Monroe Avenue\, Rochester\, NY\, 14618\, United States
END:VEVENT
BEGIN:VEVENT
DTSTART;TZID=UTC:20260611T110000
DTEND;TZID=UTC:20260611T115000
DTSTAMP:20260423T121426
CREATED:20250915T212131Z
LAST-MODIFIED:20250915T213927Z
UID:10000987-1781175600-1781178600@spectrumcreativearts.org
SUMMARY:Open Art
DESCRIPTION:This course will teach students to learn how artists navigate the creative process. This is an opportunity to be immersed in creativity and instruction. We will explore the Elements and Principles of art and how artists use them to create art. These Elements and Principles; line\, shape\, color\, value\, shape\, texture\, pattern\, to name a few\, are to ART like words are to a SENTENCE.Click for more Info!
URL:https://spectrumcreativearts.org/event/open-art-2/2026-06-11/
LOCATION:Spectrum Creative Arts\, 3300 Monroe Avenue\, Rochester\, NY\, 14618\, United States
END:VEVENT
BEGIN:VEVENT
DTSTART;TZID=UTC:20260618T110000
DTEND;TZID=UTC:20260618T115000
DTSTAMP:20260423T121426
CREATED:20250915T212131Z
LAST-MODIFIED:20250915T213927Z
UID:10000988-1781780400-1781783400@spectrumcreativearts.org
SUMMARY:Open Art
DESCRIPTION:This course will teach students to learn how artists navigate the creative process. This is an opportunity to be immersed in creativity and instruction. We will explore the Elements and Principles of art and how artists use them to create art. These Elements and Principles; line\, shape\, color\, value\, shape\, texture\, pattern\, to name a few\, are to ART like words are to a SENTENCE.Click for more Info!
URL:https://spectrumcreativearts.org/event/open-art-2/2026-06-18/
LOCATION:Spectrum Creative Arts\, 3300 Monroe Avenue\, Rochester\, NY\, 14618\, United States
END:VEVENT
BEGIN:VEVENT
DTSTART;TZID=UTC:20260625T110000
DTEND;TZID=UTC:20260625T115000
DTSTAMP:20260423T121426
CREATED:20250915T212131Z
LAST-MODIFIED:20250915T213927Z
UID:10000989-1782385200-1782388200@spectrumcreativearts.org
SUMMARY:Open Art
DESCRIPTION:This course will teach students to learn how artists navigate the creative process. This is an opportunity to be immersed in creativity and instruction. We will explore the Elements and Principles of art and how artists use them to create art. These Elements and Principles; line\, shape\, color\, value\, shape\, texture\, pattern\, to name a few\, are to ART like words are to a SENTENCE.Click for more Info!
URL:https://spectrumcreativearts.org/event/open-art-2/2026-06-25/
LOCATION:Spectrum Creative Arts\, 3300 Monroe Avenue\, Rochester\, NY\, 14618\, United States
END:VEVENT
BEGIN:VEVENT
DTSTART;TZID=UTC:20260702T110000
DTEND;TZID=UTC:20260702T115000
DTSTAMP:20260423T121426
CREATED:20250915T212131Z
LAST-MODIFIED:20250915T213927Z
UID:10000990-1782990000-1782993000@spectrumcreativearts.org
SUMMARY:Open Art
DESCRIPTION:This course will teach students to learn how artists navigate the creative process. This is an opportunity to be immersed in creativity and instruction. We will explore the Elements and Principles of art and how artists use them to create art. These Elements and Principles; line\, shape\, color\, value\, shape\, texture\, pattern\, to name a few\, are to ART like words are to a SENTENCE.Click for more Info!
URL:https://spectrumcreativearts.org/event/open-art-2/2026-07-02/
LOCATION:Spectrum Creative Arts\, 3300 Monroe Avenue\, Rochester\, NY\, 14618\, United States
END:VEVENT
BEGIN:VEVENT
DTSTART;TZID=UTC:20260709T110000
DTEND;TZID=UTC:20260709T115000
DTSTAMP:20260423T121426
CREATED:20250915T212131Z
LAST-MODIFIED:20250915T213927Z
UID:10000991-1783594800-1783597800@spectrumcreativearts.org
SUMMARY:Open Art
DESCRIPTION:This course will teach students to learn how artists navigate the creative process. This is an opportunity to be immersed in creativity and instruction. We will explore the Elements and Principles of art and how artists use them to create art. These Elements and Principles; line\, shape\, color\, value\, shape\, texture\, pattern\, to name a few\, are to ART like words are to a SENTENCE.Click for more Info!
URL:https://spectrumcreativearts.org/event/open-art-2/2026-07-09/
LOCATION:Spectrum Creative Arts\, 3300 Monroe Avenue\, Rochester\, NY\, 14618\, United States
END:VEVENT
BEGIN:VEVENT
DTSTART;TZID=UTC:20260716T110000
DTEND;TZID=UTC:20260716T115000
DTSTAMP:20260423T121426
CREATED:20250915T212131Z
LAST-MODIFIED:20250915T213927Z
UID:10000992-1784199600-1784202600@spectrumcreativearts.org
SUMMARY:Open Art
DESCRIPTION:This course will teach students to learn how artists navigate the creative process. This is an opportunity to be immersed in creativity and instruction. We will explore the Elements and Principles of art and how artists use them to create art. These Elements and Principles; line\, shape\, color\, value\, shape\, texture\, pattern\, to name a few\, are to ART like words are to a SENTENCE.Click for more Info!
URL:https://spectrumcreativearts.org/event/open-art-2/2026-07-16/
LOCATION:Spectrum Creative Arts\, 3300 Monroe Avenue\, Rochester\, NY\, 14618\, United States
END:VEVENT
BEGIN:VEVENT
DTSTART;TZID=UTC:20260723T110000
DTEND;TZID=UTC:20260723T115000
DTSTAMP:20260423T121426
CREATED:20250915T212131Z
LAST-MODIFIED:20250915T213927Z
UID:10000993-1784804400-1784807400@spectrumcreativearts.org
SUMMARY:Open Art
DESCRIPTION:This course will teach students to learn how artists navigate the creative process. This is an opportunity to be immersed in creativity and instruction. We will explore the Elements and Principles of art and how artists use them to create art. These Elements and Principles; line\, shape\, color\, value\, shape\, texture\, pattern\, to name a few\, are to ART like words are to a SENTENCE.Click for more Info!
URL:https://spectrumcreativearts.org/event/open-art-2/2026-07-23/
LOCATION:Spectrum Creative Arts\, 3300 Monroe Avenue\, Rochester\, NY\, 14618\, United States
END:VEVENT
BEGIN:VEVENT
DTSTART;TZID=UTC:20260730T110000
DTEND;TZID=UTC:20260730T115000
DTSTAMP:20260423T121426
CREATED:20250915T212131Z
LAST-MODIFIED:20250915T213927Z
UID:10000994-1785409200-1785412200@spectrumcreativearts.org
SUMMARY:Open Art
DESCRIPTION:This course will teach students to learn how artists navigate the creative process. This is an opportunity to be immersed in creativity and instruction. We will explore the Elements and Principles of art and how artists use them to create art. These Elements and Principles; line\, shape\, color\, value\, shape\, texture\, pattern\, to name a few\, are to ART like words are to a SENTENCE.Click for more Info!
URL:https://spectrumcreativearts.org/event/open-art-2/2026-07-30/
LOCATION:Spectrum Creative Arts\, 3300 Monroe Avenue\, Rochester\, NY\, 14618\, United States
END:VEVENT
BEGIN:VEVENT
DTSTART;TZID=UTC:20260806T110000
DTEND;TZID=UTC:20260806T115000
DTSTAMP:20260423T121426
CREATED:20250915T212131Z
LAST-MODIFIED:20250915T213927Z
UID:10000995-1786014000-1786017000@spectrumcreativearts.org
SUMMARY:Open Art
DESCRIPTION:This course will teach students to learn how artists navigate the creative process. This is an opportunity to be immersed in creativity and instruction. We will explore the Elements and Principles of art and how artists use them to create art. These Elements and Principles; line\, shape\, color\, value\, shape\, texture\, pattern\, to name a few\, are to ART like words are to a SENTENCE.Click for more Info!
URL:https://spectrumcreativearts.org/event/open-art-2/2026-08-06/
LOCATION:Spectrum Creative Arts\, 3300 Monroe Avenue\, Rochester\, NY\, 14618\, United States
END:VEVENT
BEGIN:VEVENT
DTSTART;TZID=UTC:20260813T110000
DTEND;TZID=UTC:20260813T115000
DTSTAMP:20260423T121426
CREATED:20250915T212131Z
LAST-MODIFIED:20250915T213927Z
UID:10000996-1786618800-1786621800@spectrumcreativearts.org
SUMMARY:Open Art
DESCRIPTION:This course will teach students to learn how artists navigate the creative process. This is an opportunity to be immersed in creativity and instruction. We will explore the Elements and Principles of art and how artists use them to create art. These Elements and Principles; line\, shape\, color\, value\, shape\, texture\, pattern\, to name a few\, are to ART like words are to a SENTENCE.Click for more Info!
URL:https://spectrumcreativearts.org/event/open-art-2/2026-08-13/
LOCATION:Spectrum Creative Arts\, 3300 Monroe Avenue\, Rochester\, NY\, 14618\, United States
END:VEVENT
BEGIN:VEVENT
DTSTART;TZID=UTC:20260820T110000
DTEND;TZID=UTC:20260820T115000
DTSTAMP:20260423T121426
CREATED:20250915T212131Z
LAST-MODIFIED:20250915T213927Z
UID:10000997-1787223600-1787226600@spectrumcreativearts.org
SUMMARY:Open Art
DESCRIPTION:This course will teach students to learn how artists navigate the creative process. This is an opportunity to be immersed in creativity and instruction. We will explore the Elements and Principles of art and how artists use them to create art. These Elements and Principles; line\, shape\, color\, value\, shape\, texture\, pattern\, to name a few\, are to ART like words are to a SENTENCE.Click for more Info!
URL:https://spectrumcreativearts.org/event/open-art-2/2026-08-20/
LOCATION:Spectrum Creative Arts\, 3300 Monroe Avenue\, Rochester\, NY\, 14618\, United States
END:VEVENT
BEGIN:VEVENT
DTSTART;TZID=UTC:20260827T110000
DTEND;TZID=UTC:20260827T115000
DTSTAMP:20260423T121426
CREATED:20250915T212131Z
LAST-MODIFIED:20250915T213927Z
UID:10000998-1787828400-1787831400@spectrumcreativearts.org
SUMMARY:Open Art
DESCRIPTION:This course will teach students to learn how artists navigate the creative process. This is an opportunity to be immersed in creativity and instruction. We will explore the Elements and Principles of art and how artists use them to create art. These Elements and Principles; line\, shape\, color\, value\, shape\, texture\, pattern\, to name a few\, are to ART like words are to a SENTENCE.Click for more Info!
URL:https://spectrumcreativearts.org/event/open-art-2/2026-08-27/
LOCATION:Spectrum Creative Arts\, 3300 Monroe Avenue\, Rochester\, NY\, 14618\, United States
END:VEVENT
BEGIN:VEVENT
DTSTART;TZID=UTC:20260903T110000
DTEND;TZID=UTC:20260903T115000
DTSTAMP:20260423T121426
CREATED:20250915T212131Z
LAST-MODIFIED:20250915T213927Z
UID:10000999-1788433200-1788436200@spectrumcreativearts.org
SUMMARY:Open Art
DESCRIPTION:This course will teach students to learn how artists navigate the creative process. This is an opportunity to be immersed in creativity and instruction. We will explore the Elements and Principles of art and how artists use them to create art. These Elements and Principles; line\, shape\, color\, value\, shape\, texture\, pattern\, to name a few\, are to ART like words are to a SENTENCE.Click for more Info!
URL:https://spectrumcreativearts.org/event/open-art-2/2026-09-03/
LOCATION:Spectrum Creative Arts\, 3300 Monroe Avenue\, Rochester\, NY\, 14618\, United States
END:VEVENT
BEGIN:VEVENT
DTSTART;TZID=UTC:20260910T110000
DTEND;TZID=UTC:20260910T115000
DTSTAMP:20260423T121426
CREATED:20250915T212131Z
LAST-MODIFIED:20250915T213927Z
UID:10001000-1789038000-1789041000@spectrumcreativearts.org
SUMMARY:Open Art
DESCRIPTION:This course will teach students to learn how artists navigate the creative process. This is an opportunity to be immersed in creativity and instruction. We will explore the Elements and Principles of art and how artists use them to create art. These Elements and Principles; line\, shape\, color\, value\, shape\, texture\, pattern\, to name a few\, are to ART like words are to a SENTENCE.Click for more Info!
URL:https://spectrumcreativearts.org/event/open-art-2/2026-09-10/
LOCATION:Spectrum Creative Arts\, 3300 Monroe Avenue\, Rochester\, NY\, 14618\, United States
END:VEVENT
BEGIN:VEVENT
DTSTART;TZID=UTC:20260917T110000
DTEND;TZID=UTC:20260917T115000
DTSTAMP:20260423T121426
CREATED:20250915T212131Z
LAST-MODIFIED:20250915T213927Z
UID:10001001-1789642800-1789645800@spectrumcreativearts.org
SUMMARY:Open Art
DESCRIPTION:This course will teach students to learn how artists navigate the creative process. This is an opportunity to be immersed in creativity and instruction. We will explore the Elements and Principles of art and how artists use them to create art. These Elements and Principles; line\, shape\, color\, value\, shape\, texture\, pattern\, to name a few\, are to ART like words are to a SENTENCE.Click for more Info!
URL:https://spectrumcreativearts.org/event/open-art-2/2026-09-17/
LOCATION:Spectrum Creative Arts\, 3300 Monroe Avenue\, Rochester\, NY\, 14618\, United States
END:VEVENT
BEGIN:VEVENT
DTSTART;TZID=UTC:20260924T110000
DTEND;TZID=UTC:20260924T115000
DTSTAMP:20260423T121426
CREATED:20250915T212131Z
LAST-MODIFIED:20250915T213927Z
UID:10001002-1790247600-1790250600@spectrumcreativearts.org
SUMMARY:Open Art
DESCRIPTION:This course will teach students to learn how artists navigate the creative process. This is an opportunity to be immersed in creativity and instruction. We will explore the Elements and Principles of art and how artists use them to create art. These Elements and Principles; line\, shape\, color\, value\, shape\, texture\, pattern\, to name a few\, are to ART like words are to a SENTENCE.Click for more Info!
URL:https://spectrumcreativearts.org/event/open-art-2/2026-09-24/
LOCATION:Spectrum Creative Arts\, 3300 Monroe Avenue\, Rochester\, NY\, 14618\, United States
END:VEVENT
BEGIN:VEVENT
DTSTART;TZID=UTC:20261001T110000
DTEND;TZID=UTC:20261001T115000
DTSTAMP:20260423T121426
CREATED:20250915T212131Z
LAST-MODIFIED:20250915T213927Z
UID:10001003-1790852400-1790855400@spectrumcreativearts.org
SUMMARY:Open Art
DESCRIPTION:This course will teach students to learn how artists navigate the creative process. This is an opportunity to be immersed in creativity and instruction. We will explore the Elements and Principles of art and how artists use them to create art. These Elements and Principles; line\, shape\, color\, value\, shape\, texture\, pattern\, to name a few\, are to ART like words are to a SENTENCE.Click for more Info!
URL:https://spectrumcreativearts.org/event/open-art-2/2026-10-01/
LOCATION:Spectrum Creative Arts\, 3300 Monroe Avenue\, Rochester\, NY\, 14618\, United States
END:VEVENT
BEGIN:VEVENT
DTSTART;TZID=UTC:20261008T110000
DTEND;TZID=UTC:20261008T115000
DTSTAMP:20260423T121426
CREATED:20250915T212131Z
LAST-MODIFIED:20250915T213927Z
UID:10001004-1791457200-1791460200@spectrumcreativearts.org
SUMMARY:Open Art
DESCRIPTION:This course will teach students to learn how artists navigate the creative process. This is an opportunity to be immersed in creativity and instruction. We will explore the Elements and Principles of art and how artists use them to create art. These Elements and Principles; line\, shape\, color\, value\, shape\, texture\, pattern\, to name a few\, are to ART like words are to a SENTENCE.Click for more Info!
URL:https://spectrumcreativearts.org/event/open-art-2/2026-10-08/
LOCATION:Spectrum Creative Arts\, 3300 Monroe Avenue\, Rochester\, NY\, 14618\, United States
END:VEVENT
BEGIN:VEVENT
DTSTART;TZID=UTC:20261015T110000
DTEND;TZID=UTC:20261015T115000
DTSTAMP:20260423T121426
CREATED:20250915T212131Z
LAST-MODIFIED:20250915T213927Z
UID:10001005-1792062000-1792065000@spectrumcreativearts.org
SUMMARY:Open Art
DESCRIPTION:This course will teach students to learn how artists navigate the creative process. This is an opportunity to be immersed in creativity and instruction. We will explore the Elements and Principles of art and how artists use them to create art. These Elements and Principles; line\, shape\, color\, value\, shape\, texture\, pattern\, to name a few\, are to ART like words are to a SENTENCE.Click for more Info!
URL:https://spectrumcreativearts.org/event/open-art-2/2026-10-15/
LOCATION:Spectrum Creative Arts\, 3300 Monroe Avenue\, Rochester\, NY\, 14618\, United States
END:VEVENT
BEGIN:VEVENT
DTSTART;TZID=UTC:20261022T110000
DTEND;TZID=UTC:20261022T115000
DTSTAMP:20260423T121426
CREATED:20250915T212131Z
LAST-MODIFIED:20250915T213927Z
UID:10001006-1792666800-1792669800@spectrumcreativearts.org
SUMMARY:Open Art
DESCRIPTION:This course will teach students to learn how artists navigate the creative process. This is an opportunity to be immersed in creativity and instruction. We will explore the Elements and Principles of art and how artists use them to create art. These Elements and Principles; line\, shape\, color\, value\, shape\, texture\, pattern\, to name a few\, are to ART like words are to a SENTENCE.Click for more Info!
URL:https://spectrumcreativearts.org/event/open-art-2/2026-10-22/
LOCATION:Spectrum Creative Arts\, 3300 Monroe Avenue\, Rochester\, NY\, 14618\, United States
END:VEVENT
BEGIN:VEVENT
DTSTART;TZID=UTC:20261029T110000
DTEND;TZID=UTC:20261029T115000
DTSTAMP:20260423T121426
CREATED:20250915T212131Z
LAST-MODIFIED:20250915T213927Z
UID:10001007-1793271600-1793274600@spectrumcreativearts.org
SUMMARY:Open Art
DESCRIPTION:This course will teach students to learn how artists navigate the creative process. This is an opportunity to be immersed in creativity and instruction. We will explore the Elements and Principles of art and how artists use them to create art. These Elements and Principles; line\, shape\, color\, value\, shape\, texture\, pattern\, to name a few\, are to ART like words are to a SENTENCE.Click for more Info!
URL:https://spectrumcreativearts.org/event/open-art-2/2026-10-29/
LOCATION:Spectrum Creative Arts\, 3300 Monroe Avenue\, Rochester\, NY\, 14618\, United States
END:VEVENT
BEGIN:VEVENT
DTSTART;TZID=UTC:20261105T110000
DTEND;TZID=UTC:20261105T115000
DTSTAMP:20260423T121426
CREATED:20250915T212131Z
LAST-MODIFIED:20250915T213927Z
UID:10001008-1793876400-1793879400@spectrumcreativearts.org
SUMMARY:Open Art
DESCRIPTION:This course will teach students to learn how artists navigate the creative process. This is an opportunity to be immersed in creativity and instruction. We will explore the Elements and Principles of art and how artists use them to create art. These Elements and Principles; line\, shape\, color\, value\, shape\, texture\, pattern\, to name a few\, are to ART like words are to a SENTENCE.Click for more Info!
URL:https://spectrumcreativearts.org/event/open-art-2/2026-11-05/
LOCATION:Spectrum Creative Arts\, 3300 Monroe Avenue\, Rochester\, NY\, 14618\, United States
END:VEVENT
BEGIN:VEVENT
DTSTART;TZID=UTC:20261112T110000
DTEND;TZID=UTC:20261112T115000
DTSTAMP:20260423T121426
CREATED:20250915T212131Z
LAST-MODIFIED:20250915T213927Z
UID:10001009-1794481200-1794484200@spectrumcreativearts.org
SUMMARY:Open Art
DESCRIPTION:This course will teach students to learn how artists navigate the creative process. This is an opportunity to be immersed in creativity and instruction. We will explore the Elements and Principles of art and how artists use them to create art. These Elements and Principles; line\, shape\, color\, value\, shape\, texture\, pattern\, to name a few\, are to ART like words are to a SENTENCE.Click for more Info!
URL:https://spectrumcreativearts.org/event/open-art-2/2026-11-12/
LOCATION:Spectrum Creative Arts\, 3300 Monroe Avenue\, Rochester\, NY\, 14618\, United States
END:VEVENT
BEGIN:VEVENT
DTSTART;TZID=UTC:20261119T110000
DTEND;TZID=UTC:20261119T115000
DTSTAMP:20260423T121426
CREATED:20250915T212131Z
LAST-MODIFIED:20250915T213927Z
UID:10001010-1795086000-1795089000@spectrumcreativearts.org
SUMMARY:Open Art
DESCRIPTION:This course will teach students to learn how artists navigate the creative process. This is an opportunity to be immersed in creativity and instruction. We will explore the Elements and Principles of art and how artists use them to create art. These Elements and Principles; line\, shape\, color\, value\, shape\, texture\, pattern\, to name a few\, are to ART like words are to a SENTENCE.Click for more Info!
URL:https://spectrumcreativearts.org/event/open-art-2/2026-11-19/
LOCATION:Spectrum Creative Arts\, 3300 Monroe Avenue\, Rochester\, NY\, 14618\, United States
END:VEVENT
END:VCALENDAR