BEGIN:VCALENDAR
VERSION:2.0
PRODID:-//Spectrum Creative Arts - ECPv6.15.18//NONSGML v1.0//EN
CALSCALE:GREGORIAN
METHOD:PUBLISH
X-WR-CALNAME:Spectrum Creative Arts
X-ORIGINAL-URL:https://spectrumcreativearts.org
X-WR-CALDESC:Events for Spectrum Creative Arts
REFRESH-INTERVAL;VALUE=DURATION:PT1H
X-Robots-Tag:noindex
X-PUBLISHED-TTL:PT1H
BEGIN:VTIMEZONE
TZID:UTC
BEGIN:STANDARD
TZOFFSETFROM:+0000
TZOFFSETTO:+0000
TZNAME:UTC
DTSTART:20250101T000000
END:STANDARD
END:VTIMEZONE
BEGIN:VEVENT
DTSTART;TZID=UTC:20260429T110000
DTEND;TZID=UTC:20260429T115000
DTSTAMP:20260423T121321
CREATED:20250915T211741Z
LAST-MODIFIED:20250915T213330Z
UID:10000872-1777460400-1777463400@spectrumcreativearts.org
SUMMARY:Creative Wellness
DESCRIPTION:In this class\, students will participant in music-based experiences that promote mindfulness\, relaxation\, and well-being in a supportive and inclusive setting. Students should plan to wear comfortable clothes for easy movement. Click for more Info!
URL:https://spectrumcreativearts.org/event/creative-wellness/2026-04-29/
LOCATION:Spectrum Creative Arts\, 3300 Monroe Avenue\, Rochester\, NY\, 14618\, United States
END:VEVENT
BEGIN:VEVENT
DTSTART;TZID=UTC:20260506T110000
DTEND;TZID=UTC:20260506T115000
DTSTAMP:20260423T121321
CREATED:20250915T211741Z
LAST-MODIFIED:20250915T213330Z
UID:10000873-1778065200-1778068200@spectrumcreativearts.org
SUMMARY:Creative Wellness
DESCRIPTION:In this class\, students will participant in music-based experiences that promote mindfulness\, relaxation\, and well-being in a supportive and inclusive setting. Students should plan to wear comfortable clothes for easy movement. Click for more Info!
URL:https://spectrumcreativearts.org/event/creative-wellness/2026-05-06/
LOCATION:Spectrum Creative Arts\, 3300 Monroe Avenue\, Rochester\, NY\, 14618\, United States
END:VEVENT
BEGIN:VEVENT
DTSTART;TZID=UTC:20260513T110000
DTEND;TZID=UTC:20260513T115000
DTSTAMP:20260423T121321
CREATED:20250915T211741Z
LAST-MODIFIED:20250915T213330Z
UID:10000874-1778670000-1778673000@spectrumcreativearts.org
SUMMARY:Creative Wellness
DESCRIPTION:In this class\, students will participant in music-based experiences that promote mindfulness\, relaxation\, and well-being in a supportive and inclusive setting. Students should plan to wear comfortable clothes for easy movement. Click for more Info!
URL:https://spectrumcreativearts.org/event/creative-wellness/2026-05-13/
LOCATION:Spectrum Creative Arts\, 3300 Monroe Avenue\, Rochester\, NY\, 14618\, United States
END:VEVENT
BEGIN:VEVENT
DTSTART;TZID=UTC:20260520T110000
DTEND;TZID=UTC:20260520T115000
DTSTAMP:20260423T121321
CREATED:20250915T211741Z
LAST-MODIFIED:20250915T213330Z
UID:10000875-1779274800-1779277800@spectrumcreativearts.org
SUMMARY:Creative Wellness
DESCRIPTION:In this class\, students will participant in music-based experiences that promote mindfulness\, relaxation\, and well-being in a supportive and inclusive setting. Students should plan to wear comfortable clothes for easy movement. Click for more Info!
URL:https://spectrumcreativearts.org/event/creative-wellness/2026-05-20/
LOCATION:Spectrum Creative Arts\, 3300 Monroe Avenue\, Rochester\, NY\, 14618\, United States
END:VEVENT
BEGIN:VEVENT
DTSTART;TZID=UTC:20260527T110000
DTEND;TZID=UTC:20260527T115000
DTSTAMP:20260423T121321
CREATED:20250915T211741Z
LAST-MODIFIED:20250915T213330Z
UID:10000876-1779879600-1779882600@spectrumcreativearts.org
SUMMARY:Creative Wellness
DESCRIPTION:In this class\, students will participant in music-based experiences that promote mindfulness\, relaxation\, and well-being in a supportive and inclusive setting. Students should plan to wear comfortable clothes for easy movement. Click for more Info!
URL:https://spectrumcreativearts.org/event/creative-wellness/2026-05-27/
LOCATION:Spectrum Creative Arts\, 3300 Monroe Avenue\, Rochester\, NY\, 14618\, United States
END:VEVENT
BEGIN:VEVENT
DTSTART;TZID=UTC:20260603T110000
DTEND;TZID=UTC:20260603T115000
DTSTAMP:20260423T121321
CREATED:20250915T211741Z
LAST-MODIFIED:20250915T213330Z
UID:10000877-1780484400-1780487400@spectrumcreativearts.org
SUMMARY:Creative Wellness
DESCRIPTION:In this class\, students will participant in music-based experiences that promote mindfulness\, relaxation\, and well-being in a supportive and inclusive setting. Students should plan to wear comfortable clothes for easy movement. Click for more Info!
URL:https://spectrumcreativearts.org/event/creative-wellness/2026-06-03/
LOCATION:Spectrum Creative Arts\, 3300 Monroe Avenue\, Rochester\, NY\, 14618\, United States
END:VEVENT
BEGIN:VEVENT
DTSTART;TZID=UTC:20260610T110000
DTEND;TZID=UTC:20260610T115000
DTSTAMP:20260423T121321
CREATED:20250915T211741Z
LAST-MODIFIED:20250915T213330Z
UID:10000878-1781089200-1781092200@spectrumcreativearts.org
SUMMARY:Creative Wellness
DESCRIPTION:In this class\, students will participant in music-based experiences that promote mindfulness\, relaxation\, and well-being in a supportive and inclusive setting. Students should plan to wear comfortable clothes for easy movement. Click for more Info!
URL:https://spectrumcreativearts.org/event/creative-wellness/2026-06-10/
LOCATION:Spectrum Creative Arts\, 3300 Monroe Avenue\, Rochester\, NY\, 14618\, United States
END:VEVENT
BEGIN:VEVENT
DTSTART;TZID=UTC:20260617T110000
DTEND;TZID=UTC:20260617T115000
DTSTAMP:20260423T121322
CREATED:20250915T211741Z
LAST-MODIFIED:20250915T213330Z
UID:10000879-1781694000-1781697000@spectrumcreativearts.org
SUMMARY:Creative Wellness
DESCRIPTION:In this class\, students will participant in music-based experiences that promote mindfulness\, relaxation\, and well-being in a supportive and inclusive setting. Students should plan to wear comfortable clothes for easy movement. Click for more Info!
URL:https://spectrumcreativearts.org/event/creative-wellness/2026-06-17/
LOCATION:Spectrum Creative Arts\, 3300 Monroe Avenue\, Rochester\, NY\, 14618\, United States
END:VEVENT
BEGIN:VEVENT
DTSTART;TZID=UTC:20260624T110000
DTEND;TZID=UTC:20260624T115000
DTSTAMP:20260423T121322
CREATED:20250915T211741Z
LAST-MODIFIED:20250915T213330Z
UID:10000880-1782298800-1782301800@spectrumcreativearts.org
SUMMARY:Creative Wellness
DESCRIPTION:In this class\, students will participant in music-based experiences that promote mindfulness\, relaxation\, and well-being in a supportive and inclusive setting. Students should plan to wear comfortable clothes for easy movement. Click for more Info!
URL:https://spectrumcreativearts.org/event/creative-wellness/2026-06-24/
LOCATION:Spectrum Creative Arts\, 3300 Monroe Avenue\, Rochester\, NY\, 14618\, United States
END:VEVENT
BEGIN:VEVENT
DTSTART;TZID=UTC:20260701T110000
DTEND;TZID=UTC:20260701T115000
DTSTAMP:20260423T121322
CREATED:20250915T211741Z
LAST-MODIFIED:20250915T213330Z
UID:10000881-1782903600-1782906600@spectrumcreativearts.org
SUMMARY:Creative Wellness
DESCRIPTION:In this class\, students will participant in music-based experiences that promote mindfulness\, relaxation\, and well-being in a supportive and inclusive setting. Students should plan to wear comfortable clothes for easy movement. Click for more Info!
URL:https://spectrumcreativearts.org/event/creative-wellness/2026-07-01/
LOCATION:Spectrum Creative Arts\, 3300 Monroe Avenue\, Rochester\, NY\, 14618\, United States
END:VEVENT
BEGIN:VEVENT
DTSTART;TZID=UTC:20260708T110000
DTEND;TZID=UTC:20260708T115000
DTSTAMP:20260423T121322
CREATED:20250915T211741Z
LAST-MODIFIED:20250915T213330Z
UID:10000882-1783508400-1783511400@spectrumcreativearts.org
SUMMARY:Creative Wellness
DESCRIPTION:In this class\, students will participant in music-based experiences that promote mindfulness\, relaxation\, and well-being in a supportive and inclusive setting. Students should plan to wear comfortable clothes for easy movement. Click for more Info!
URL:https://spectrumcreativearts.org/event/creative-wellness/2026-07-08/
LOCATION:Spectrum Creative Arts\, 3300 Monroe Avenue\, Rochester\, NY\, 14618\, United States
END:VEVENT
BEGIN:VEVENT
DTSTART;TZID=UTC:20260715T110000
DTEND;TZID=UTC:20260715T115000
DTSTAMP:20260423T121322
CREATED:20250915T211741Z
LAST-MODIFIED:20250915T213330Z
UID:10000883-1784113200-1784116200@spectrumcreativearts.org
SUMMARY:Creative Wellness
DESCRIPTION:In this class\, students will participant in music-based experiences that promote mindfulness\, relaxation\, and well-being in a supportive and inclusive setting. Students should plan to wear comfortable clothes for easy movement. Click for more Info!
URL:https://spectrumcreativearts.org/event/creative-wellness/2026-07-15/
LOCATION:Spectrum Creative Arts\, 3300 Monroe Avenue\, Rochester\, NY\, 14618\, United States
END:VEVENT
BEGIN:VEVENT
DTSTART;TZID=UTC:20260722T110000
DTEND;TZID=UTC:20260722T115000
DTSTAMP:20260423T121322
CREATED:20250915T211741Z
LAST-MODIFIED:20250915T213330Z
UID:10000884-1784718000-1784721000@spectrumcreativearts.org
SUMMARY:Creative Wellness
DESCRIPTION:In this class\, students will participant in music-based experiences that promote mindfulness\, relaxation\, and well-being in a supportive and inclusive setting. Students should plan to wear comfortable clothes for easy movement. Click for more Info!
URL:https://spectrumcreativearts.org/event/creative-wellness/2026-07-22/
LOCATION:Spectrum Creative Arts\, 3300 Monroe Avenue\, Rochester\, NY\, 14618\, United States
END:VEVENT
BEGIN:VEVENT
DTSTART;TZID=UTC:20260729T110000
DTEND;TZID=UTC:20260729T115000
DTSTAMP:20260423T121322
CREATED:20250915T211741Z
LAST-MODIFIED:20250915T213330Z
UID:10000885-1785322800-1785325800@spectrumcreativearts.org
SUMMARY:Creative Wellness
DESCRIPTION:In this class\, students will participant in music-based experiences that promote mindfulness\, relaxation\, and well-being in a supportive and inclusive setting. Students should plan to wear comfortable clothes for easy movement. Click for more Info!
URL:https://spectrumcreativearts.org/event/creative-wellness/2026-07-29/
LOCATION:Spectrum Creative Arts\, 3300 Monroe Avenue\, Rochester\, NY\, 14618\, United States
END:VEVENT
BEGIN:VEVENT
DTSTART;TZID=UTC:20260805T110000
DTEND;TZID=UTC:20260805T115000
DTSTAMP:20260423T121322
CREATED:20250915T211741Z
LAST-MODIFIED:20250915T213330Z
UID:10000886-1785927600-1785930600@spectrumcreativearts.org
SUMMARY:Creative Wellness
DESCRIPTION:In this class\, students will participant in music-based experiences that promote mindfulness\, relaxation\, and well-being in a supportive and inclusive setting. Students should plan to wear comfortable clothes for easy movement. Click for more Info!
URL:https://spectrumcreativearts.org/event/creative-wellness/2026-08-05/
LOCATION:Spectrum Creative Arts\, 3300 Monroe Avenue\, Rochester\, NY\, 14618\, United States
END:VEVENT
BEGIN:VEVENT
DTSTART;TZID=UTC:20260812T110000
DTEND;TZID=UTC:20260812T115000
DTSTAMP:20260423T121322
CREATED:20250915T211741Z
LAST-MODIFIED:20250915T213330Z
UID:10000887-1786532400-1786535400@spectrumcreativearts.org
SUMMARY:Creative Wellness
DESCRIPTION:In this class\, students will participant in music-based experiences that promote mindfulness\, relaxation\, and well-being in a supportive and inclusive setting. Students should plan to wear comfortable clothes for easy movement. Click for more Info!
URL:https://spectrumcreativearts.org/event/creative-wellness/2026-08-12/
LOCATION:Spectrum Creative Arts\, 3300 Monroe Avenue\, Rochester\, NY\, 14618\, United States
END:VEVENT
BEGIN:VEVENT
DTSTART;TZID=UTC:20260819T110000
DTEND;TZID=UTC:20260819T115000
DTSTAMP:20260423T121322
CREATED:20250915T211741Z
LAST-MODIFIED:20250915T213330Z
UID:10000888-1787137200-1787140200@spectrumcreativearts.org
SUMMARY:Creative Wellness
DESCRIPTION:In this class\, students will participant in music-based experiences that promote mindfulness\, relaxation\, and well-being in a supportive and inclusive setting. Students should plan to wear comfortable clothes for easy movement. Click for more Info!
URL:https://spectrumcreativearts.org/event/creative-wellness/2026-08-19/
LOCATION:Spectrum Creative Arts\, 3300 Monroe Avenue\, Rochester\, NY\, 14618\, United States
END:VEVENT
BEGIN:VEVENT
DTSTART;TZID=UTC:20260826T110000
DTEND;TZID=UTC:20260826T115000
DTSTAMP:20260423T121322
CREATED:20250915T211741Z
LAST-MODIFIED:20250915T213330Z
UID:10000889-1787742000-1787745000@spectrumcreativearts.org
SUMMARY:Creative Wellness
DESCRIPTION:In this class\, students will participant in music-based experiences that promote mindfulness\, relaxation\, and well-being in a supportive and inclusive setting. Students should plan to wear comfortable clothes for easy movement. Click for more Info!
URL:https://spectrumcreativearts.org/event/creative-wellness/2026-08-26/
LOCATION:Spectrum Creative Arts\, 3300 Monroe Avenue\, Rochester\, NY\, 14618\, United States
END:VEVENT
BEGIN:VEVENT
DTSTART;TZID=UTC:20260902T110000
DTEND;TZID=UTC:20260902T115000
DTSTAMP:20260423T121322
CREATED:20250915T211741Z
LAST-MODIFIED:20250915T213330Z
UID:10000890-1788346800-1788349800@spectrumcreativearts.org
SUMMARY:Creative Wellness
DESCRIPTION:In this class\, students will participant in music-based experiences that promote mindfulness\, relaxation\, and well-being in a supportive and inclusive setting. Students should plan to wear comfortable clothes for easy movement. Click for more Info!
URL:https://spectrumcreativearts.org/event/creative-wellness/2026-09-02/
LOCATION:Spectrum Creative Arts\, 3300 Monroe Avenue\, Rochester\, NY\, 14618\, United States
END:VEVENT
BEGIN:VEVENT
DTSTART;TZID=UTC:20260909T110000
DTEND;TZID=UTC:20260909T115000
DTSTAMP:20260423T121322
CREATED:20250915T211741Z
LAST-MODIFIED:20250915T213330Z
UID:10000891-1788951600-1788954600@spectrumcreativearts.org
SUMMARY:Creative Wellness
DESCRIPTION:In this class\, students will participant in music-based experiences that promote mindfulness\, relaxation\, and well-being in a supportive and inclusive setting. Students should plan to wear comfortable clothes for easy movement. Click for more Info!
URL:https://spectrumcreativearts.org/event/creative-wellness/2026-09-09/
LOCATION:Spectrum Creative Arts\, 3300 Monroe Avenue\, Rochester\, NY\, 14618\, United States
END:VEVENT
BEGIN:VEVENT
DTSTART;TZID=UTC:20260916T110000
DTEND;TZID=UTC:20260916T115000
DTSTAMP:20260423T121322
CREATED:20250915T211741Z
LAST-MODIFIED:20250915T213330Z
UID:10000892-1789556400-1789559400@spectrumcreativearts.org
SUMMARY:Creative Wellness
DESCRIPTION:In this class\, students will participant in music-based experiences that promote mindfulness\, relaxation\, and well-being in a supportive and inclusive setting. Students should plan to wear comfortable clothes for easy movement. Click for more Info!
URL:https://spectrumcreativearts.org/event/creative-wellness/2026-09-16/
LOCATION:Spectrum Creative Arts\, 3300 Monroe Avenue\, Rochester\, NY\, 14618\, United States
END:VEVENT
BEGIN:VEVENT
DTSTART;TZID=UTC:20260923T110000
DTEND;TZID=UTC:20260923T115000
DTSTAMP:20260423T121322
CREATED:20250915T211741Z
LAST-MODIFIED:20250915T213330Z
UID:10000893-1790161200-1790164200@spectrumcreativearts.org
SUMMARY:Creative Wellness
DESCRIPTION:In this class\, students will participant in music-based experiences that promote mindfulness\, relaxation\, and well-being in a supportive and inclusive setting. Students should plan to wear comfortable clothes for easy movement. Click for more Info!
URL:https://spectrumcreativearts.org/event/creative-wellness/2026-09-23/
LOCATION:Spectrum Creative Arts\, 3300 Monroe Avenue\, Rochester\, NY\, 14618\, United States
END:VEVENT
BEGIN:VEVENT
DTSTART;TZID=UTC:20260930T110000
DTEND;TZID=UTC:20260930T115000
DTSTAMP:20260423T121322
CREATED:20250915T211741Z
LAST-MODIFIED:20250915T213330Z
UID:10000894-1790766000-1790769000@spectrumcreativearts.org
SUMMARY:Creative Wellness
DESCRIPTION:In this class\, students will participant in music-based experiences that promote mindfulness\, relaxation\, and well-being in a supportive and inclusive setting. Students should plan to wear comfortable clothes for easy movement. Click for more Info!
URL:https://spectrumcreativearts.org/event/creative-wellness/2026-09-30/
LOCATION:Spectrum Creative Arts\, 3300 Monroe Avenue\, Rochester\, NY\, 14618\, United States
END:VEVENT
BEGIN:VEVENT
DTSTART;TZID=UTC:20261007T110000
DTEND;TZID=UTC:20261007T115000
DTSTAMP:20260423T121322
CREATED:20250915T211741Z
LAST-MODIFIED:20250915T213330Z
UID:10000895-1791370800-1791373800@spectrumcreativearts.org
SUMMARY:Creative Wellness
DESCRIPTION:In this class\, students will participant in music-based experiences that promote mindfulness\, relaxation\, and well-being in a supportive and inclusive setting. Students should plan to wear comfortable clothes for easy movement. Click for more Info!
URL:https://spectrumcreativearts.org/event/creative-wellness/2026-10-07/
LOCATION:Spectrum Creative Arts\, 3300 Monroe Avenue\, Rochester\, NY\, 14618\, United States
END:VEVENT
BEGIN:VEVENT
DTSTART;TZID=UTC:20261014T110000
DTEND;TZID=UTC:20261014T115000
DTSTAMP:20260423T121322
CREATED:20250915T211741Z
LAST-MODIFIED:20250915T213330Z
UID:10000896-1791975600-1791978600@spectrumcreativearts.org
SUMMARY:Creative Wellness
DESCRIPTION:In this class\, students will participant in music-based experiences that promote mindfulness\, relaxation\, and well-being in a supportive and inclusive setting. Students should plan to wear comfortable clothes for easy movement. Click for more Info!
URL:https://spectrumcreativearts.org/event/creative-wellness/2026-10-14/
LOCATION:Spectrum Creative Arts\, 3300 Monroe Avenue\, Rochester\, NY\, 14618\, United States
END:VEVENT
BEGIN:VEVENT
DTSTART;TZID=UTC:20261021T110000
DTEND;TZID=UTC:20261021T115000
DTSTAMP:20260423T121322
CREATED:20250915T211741Z
LAST-MODIFIED:20250915T213330Z
UID:10000897-1792580400-1792583400@spectrumcreativearts.org
SUMMARY:Creative Wellness
DESCRIPTION:In this class\, students will participant in music-based experiences that promote mindfulness\, relaxation\, and well-being in a supportive and inclusive setting. Students should plan to wear comfortable clothes for easy movement. Click for more Info!
URL:https://spectrumcreativearts.org/event/creative-wellness/2026-10-21/
LOCATION:Spectrum Creative Arts\, 3300 Monroe Avenue\, Rochester\, NY\, 14618\, United States
END:VEVENT
BEGIN:VEVENT
DTSTART;TZID=UTC:20261028T110000
DTEND;TZID=UTC:20261028T115000
DTSTAMP:20260423T121322
CREATED:20250915T211741Z
LAST-MODIFIED:20250915T213330Z
UID:10000898-1793185200-1793188200@spectrumcreativearts.org
SUMMARY:Creative Wellness
DESCRIPTION:In this class\, students will participant in music-based experiences that promote mindfulness\, relaxation\, and well-being in a supportive and inclusive setting. Students should plan to wear comfortable clothes for easy movement. Click for more Info!
URL:https://spectrumcreativearts.org/event/creative-wellness/2026-10-28/
LOCATION:Spectrum Creative Arts\, 3300 Monroe Avenue\, Rochester\, NY\, 14618\, United States
END:VEVENT
BEGIN:VEVENT
DTSTART;TZID=UTC:20261104T110000
DTEND;TZID=UTC:20261104T115000
DTSTAMP:20260423T121322
CREATED:20250915T211741Z
LAST-MODIFIED:20250915T213330Z
UID:10000899-1793790000-1793793000@spectrumcreativearts.org
SUMMARY:Creative Wellness
DESCRIPTION:In this class\, students will participant in music-based experiences that promote mindfulness\, relaxation\, and well-being in a supportive and inclusive setting. Students should plan to wear comfortable clothes for easy movement. Click for more Info!
URL:https://spectrumcreativearts.org/event/creative-wellness/2026-11-04/
LOCATION:Spectrum Creative Arts\, 3300 Monroe Avenue\, Rochester\, NY\, 14618\, United States
END:VEVENT
BEGIN:VEVENT
DTSTART;TZID=UTC:20261111T110000
DTEND;TZID=UTC:20261111T115000
DTSTAMP:20260423T121322
CREATED:20250915T211741Z
LAST-MODIFIED:20250915T213330Z
UID:10000900-1794394800-1794397800@spectrumcreativearts.org
SUMMARY:Creative Wellness
DESCRIPTION:In this class\, students will participant in music-based experiences that promote mindfulness\, relaxation\, and well-being in a supportive and inclusive setting. Students should plan to wear comfortable clothes for easy movement. Click for more Info!
URL:https://spectrumcreativearts.org/event/creative-wellness/2026-11-11/
LOCATION:Spectrum Creative Arts\, 3300 Monroe Avenue\, Rochester\, NY\, 14618\, United States
END:VEVENT
BEGIN:VEVENT
DTSTART;TZID=UTC:20261118T110000
DTEND;TZID=UTC:20261118T115000
DTSTAMP:20260423T121322
CREATED:20250915T211741Z
LAST-MODIFIED:20250915T213330Z
UID:10000901-1794999600-1795002600@spectrumcreativearts.org
SUMMARY:Creative Wellness
DESCRIPTION:In this class\, students will participant in music-based experiences that promote mindfulness\, relaxation\, and well-being in a supportive and inclusive setting. Students should plan to wear comfortable clothes for easy movement. Click for more Info!
URL:https://spectrumcreativearts.org/event/creative-wellness/2026-11-18/
LOCATION:Spectrum Creative Arts\, 3300 Monroe Avenue\, Rochester\, NY\, 14618\, United States
END:VEVENT
END:VCALENDAR