BEGIN:VCALENDAR
VERSION:2.0
PRODID:-//Spectrum Creative Arts - ECPv6.15.18//NONSGML v1.0//EN
CALSCALE:GREGORIAN
METHOD:PUBLISH
X-WR-CALNAME:Spectrum Creative Arts
X-ORIGINAL-URL:https://spectrumcreativearts.org
X-WR-CALDESC:Events for Spectrum Creative Arts
REFRESH-INTERVAL;VALUE=DURATION:PT1H
X-Robots-Tag:noindex
X-PUBLISHED-TTL:PT1H
BEGIN:VTIMEZONE
TZID:UTC
BEGIN:STANDARD
TZOFFSETFROM:+0000
TZOFFSETTO:+0000
TZNAME:UTC
DTSTART:20250101T000000
END:STANDARD
END:VTIMEZONE
BEGIN:VEVENT
DTSTART;TZID=UTC:20260429T100000
DTEND;TZID=UTC:20260429T105000
DTSTAMP:20260423T121410
CREATED:20250911T211523Z
LAST-MODIFIED:20250911T211523Z
UID:10000765-1777456800-1777459800@spectrumcreativearts.org
SUMMARY:Prep for Performance
DESCRIPTION:Designed for the emerging artists\, this class provides training and guidance in developing both individual and ensemble performing skills. Students will explore topics related to organizing performance details\, developing independent practicing skills\, giving and implementing feedback\, and targeting performance related social skills. It is recommended that all participants are enrolled in an individual music lesson or individual music therapy in order to build their own personal repertoire.Click for more Info!
URL:https://spectrumcreativearts.org/event/prep-for-performance/2026-04-29/
LOCATION:Spectrum Creative Arts\, 3300 Monroe Avenue\, Rochester\, NY\, 14618\, United States
END:VEVENT
BEGIN:VEVENT
DTSTART;TZID=UTC:20260506T100000
DTEND;TZID=UTC:20260506T105000
DTSTAMP:20260423T121410
CREATED:20250911T211523Z
LAST-MODIFIED:20250911T211523Z
UID:10000766-1778061600-1778064600@spectrumcreativearts.org
SUMMARY:Prep for Performance
DESCRIPTION:Designed for the emerging artists\, this class provides training and guidance in developing both individual and ensemble performing skills. Students will explore topics related to organizing performance details\, developing independent practicing skills\, giving and implementing feedback\, and targeting performance related social skills. It is recommended that all participants are enrolled in an individual music lesson or individual music therapy in order to build their own personal repertoire.Click for more Info!
URL:https://spectrumcreativearts.org/event/prep-for-performance/2026-05-06/
LOCATION:Spectrum Creative Arts\, 3300 Monroe Avenue\, Rochester\, NY\, 14618\, United States
END:VEVENT
BEGIN:VEVENT
DTSTART;TZID=UTC:20260513T100000
DTEND;TZID=UTC:20260513T105000
DTSTAMP:20260423T121410
CREATED:20250911T211523Z
LAST-MODIFIED:20250911T211523Z
UID:10000767-1778666400-1778669400@spectrumcreativearts.org
SUMMARY:Prep for Performance
DESCRIPTION:Designed for the emerging artists\, this class provides training and guidance in developing both individual and ensemble performing skills. Students will explore topics related to organizing performance details\, developing independent practicing skills\, giving and implementing feedback\, and targeting performance related social skills. It is recommended that all participants are enrolled in an individual music lesson or individual music therapy in order to build their own personal repertoire.Click for more Info!
URL:https://spectrumcreativearts.org/event/prep-for-performance/2026-05-13/
LOCATION:Spectrum Creative Arts\, 3300 Monroe Avenue\, Rochester\, NY\, 14618\, United States
END:VEVENT
BEGIN:VEVENT
DTSTART;TZID=UTC:20260520T100000
DTEND;TZID=UTC:20260520T105000
DTSTAMP:20260423T121411
CREATED:20250911T211523Z
LAST-MODIFIED:20250911T211523Z
UID:10000768-1779271200-1779274200@spectrumcreativearts.org
SUMMARY:Prep for Performance
DESCRIPTION:Designed for the emerging artists\, this class provides training and guidance in developing both individual and ensemble performing skills. Students will explore topics related to organizing performance details\, developing independent practicing skills\, giving and implementing feedback\, and targeting performance related social skills. It is recommended that all participants are enrolled in an individual music lesson or individual music therapy in order to build their own personal repertoire.Click for more Info!
URL:https://spectrumcreativearts.org/event/prep-for-performance/2026-05-20/
LOCATION:Spectrum Creative Arts\, 3300 Monroe Avenue\, Rochester\, NY\, 14618\, United States
END:VEVENT
BEGIN:VEVENT
DTSTART;TZID=UTC:20260527T100000
DTEND;TZID=UTC:20260527T105000
DTSTAMP:20260423T121411
CREATED:20250911T211523Z
LAST-MODIFIED:20250911T211523Z
UID:10000769-1779876000-1779879000@spectrumcreativearts.org
SUMMARY:Prep for Performance
DESCRIPTION:Designed for the emerging artists\, this class provides training and guidance in developing both individual and ensemble performing skills. Students will explore topics related to organizing performance details\, developing independent practicing skills\, giving and implementing feedback\, and targeting performance related social skills. It is recommended that all participants are enrolled in an individual music lesson or individual music therapy in order to build their own personal repertoire.Click for more Info!
URL:https://spectrumcreativearts.org/event/prep-for-performance/2026-05-27/
LOCATION:Spectrum Creative Arts\, 3300 Monroe Avenue\, Rochester\, NY\, 14618\, United States
END:VEVENT
BEGIN:VEVENT
DTSTART;TZID=UTC:20260603T100000
DTEND;TZID=UTC:20260603T105000
DTSTAMP:20260423T121411
CREATED:20250911T211523Z
LAST-MODIFIED:20250911T211523Z
UID:10000770-1780480800-1780483800@spectrumcreativearts.org
SUMMARY:Prep for Performance
DESCRIPTION:Designed for the emerging artists\, this class provides training and guidance in developing both individual and ensemble performing skills. Students will explore topics related to organizing performance details\, developing independent practicing skills\, giving and implementing feedback\, and targeting performance related social skills. It is recommended that all participants are enrolled in an individual music lesson or individual music therapy in order to build their own personal repertoire.Click for more Info!
URL:https://spectrumcreativearts.org/event/prep-for-performance/2026-06-03/
LOCATION:Spectrum Creative Arts\, 3300 Monroe Avenue\, Rochester\, NY\, 14618\, United States
END:VEVENT
BEGIN:VEVENT
DTSTART;TZID=UTC:20260610T100000
DTEND;TZID=UTC:20260610T105000
DTSTAMP:20260423T121411
CREATED:20250911T211523Z
LAST-MODIFIED:20250911T211523Z
UID:10000771-1781085600-1781088600@spectrumcreativearts.org
SUMMARY:Prep for Performance
DESCRIPTION:Designed for the emerging artists\, this class provides training and guidance in developing both individual and ensemble performing skills. Students will explore topics related to organizing performance details\, developing independent practicing skills\, giving and implementing feedback\, and targeting performance related social skills. It is recommended that all participants are enrolled in an individual music lesson or individual music therapy in order to build their own personal repertoire.Click for more Info!
URL:https://spectrumcreativearts.org/event/prep-for-performance/2026-06-10/
LOCATION:Spectrum Creative Arts\, 3300 Monroe Avenue\, Rochester\, NY\, 14618\, United States
END:VEVENT
BEGIN:VEVENT
DTSTART;TZID=UTC:20260617T100000
DTEND;TZID=UTC:20260617T105000
DTSTAMP:20260423T121411
CREATED:20250911T211523Z
LAST-MODIFIED:20250911T211523Z
UID:10000772-1781690400-1781693400@spectrumcreativearts.org
SUMMARY:Prep for Performance
DESCRIPTION:Designed for the emerging artists\, this class provides training and guidance in developing both individual and ensemble performing skills. Students will explore topics related to organizing performance details\, developing independent practicing skills\, giving and implementing feedback\, and targeting performance related social skills. It is recommended that all participants are enrolled in an individual music lesson or individual music therapy in order to build their own personal repertoire.Click for more Info!
URL:https://spectrumcreativearts.org/event/prep-for-performance/2026-06-17/
LOCATION:Spectrum Creative Arts\, 3300 Monroe Avenue\, Rochester\, NY\, 14618\, United States
END:VEVENT
BEGIN:VEVENT
DTSTART;TZID=UTC:20260624T100000
DTEND;TZID=UTC:20260624T105000
DTSTAMP:20260423T121411
CREATED:20250911T211523Z
LAST-MODIFIED:20250911T211523Z
UID:10000773-1782295200-1782298200@spectrumcreativearts.org
SUMMARY:Prep for Performance
DESCRIPTION:Designed for the emerging artists\, this class provides training and guidance in developing both individual and ensemble performing skills. Students will explore topics related to organizing performance details\, developing independent practicing skills\, giving and implementing feedback\, and targeting performance related social skills. It is recommended that all participants are enrolled in an individual music lesson or individual music therapy in order to build their own personal repertoire.Click for more Info!
URL:https://spectrumcreativearts.org/event/prep-for-performance/2026-06-24/
LOCATION:Spectrum Creative Arts\, 3300 Monroe Avenue\, Rochester\, NY\, 14618\, United States
END:VEVENT
BEGIN:VEVENT
DTSTART;TZID=UTC:20260701T100000
DTEND;TZID=UTC:20260701T105000
DTSTAMP:20260423T121411
CREATED:20250911T211523Z
LAST-MODIFIED:20250911T211523Z
UID:10000774-1782900000-1782903000@spectrumcreativearts.org
SUMMARY:Prep for Performance
DESCRIPTION:Designed for the emerging artists\, this class provides training and guidance in developing both individual and ensemble performing skills. Students will explore topics related to organizing performance details\, developing independent practicing skills\, giving and implementing feedback\, and targeting performance related social skills. It is recommended that all participants are enrolled in an individual music lesson or individual music therapy in order to build their own personal repertoire.Click for more Info!
URL:https://spectrumcreativearts.org/event/prep-for-performance/2026-07-01/
LOCATION:Spectrum Creative Arts\, 3300 Monroe Avenue\, Rochester\, NY\, 14618\, United States
END:VEVENT
BEGIN:VEVENT
DTSTART;TZID=UTC:20260708T100000
DTEND;TZID=UTC:20260708T105000
DTSTAMP:20260423T121411
CREATED:20250911T211523Z
LAST-MODIFIED:20250911T211523Z
UID:10000775-1783504800-1783507800@spectrumcreativearts.org
SUMMARY:Prep for Performance
DESCRIPTION:Designed for the emerging artists\, this class provides training and guidance in developing both individual and ensemble performing skills. Students will explore topics related to organizing performance details\, developing independent practicing skills\, giving and implementing feedback\, and targeting performance related social skills. It is recommended that all participants are enrolled in an individual music lesson or individual music therapy in order to build their own personal repertoire.Click for more Info!
URL:https://spectrumcreativearts.org/event/prep-for-performance/2026-07-08/
LOCATION:Spectrum Creative Arts\, 3300 Monroe Avenue\, Rochester\, NY\, 14618\, United States
END:VEVENT
BEGIN:VEVENT
DTSTART;TZID=UTC:20260715T100000
DTEND;TZID=UTC:20260715T105000
DTSTAMP:20260423T121411
CREATED:20250911T211523Z
LAST-MODIFIED:20250911T211523Z
UID:10000776-1784109600-1784112600@spectrumcreativearts.org
SUMMARY:Prep for Performance
DESCRIPTION:Designed for the emerging artists\, this class provides training and guidance in developing both individual and ensemble performing skills. Students will explore topics related to organizing performance details\, developing independent practicing skills\, giving and implementing feedback\, and targeting performance related social skills. It is recommended that all participants are enrolled in an individual music lesson or individual music therapy in order to build their own personal repertoire.Click for more Info!
URL:https://spectrumcreativearts.org/event/prep-for-performance/2026-07-15/
LOCATION:Spectrum Creative Arts\, 3300 Monroe Avenue\, Rochester\, NY\, 14618\, United States
END:VEVENT
BEGIN:VEVENT
DTSTART;TZID=UTC:20260722T100000
DTEND;TZID=UTC:20260722T105000
DTSTAMP:20260423T121411
CREATED:20250911T211523Z
LAST-MODIFIED:20250911T211523Z
UID:10000777-1784714400-1784717400@spectrumcreativearts.org
SUMMARY:Prep for Performance
DESCRIPTION:Designed for the emerging artists\, this class provides training and guidance in developing both individual and ensemble performing skills. Students will explore topics related to organizing performance details\, developing independent practicing skills\, giving and implementing feedback\, and targeting performance related social skills. It is recommended that all participants are enrolled in an individual music lesson or individual music therapy in order to build their own personal repertoire.Click for more Info!
URL:https://spectrumcreativearts.org/event/prep-for-performance/2026-07-22/
LOCATION:Spectrum Creative Arts\, 3300 Monroe Avenue\, Rochester\, NY\, 14618\, United States
END:VEVENT
BEGIN:VEVENT
DTSTART;TZID=UTC:20260729T100000
DTEND;TZID=UTC:20260729T105000
DTSTAMP:20260423T121411
CREATED:20250911T211523Z
LAST-MODIFIED:20250911T211523Z
UID:10000778-1785319200-1785322200@spectrumcreativearts.org
SUMMARY:Prep for Performance
DESCRIPTION:Designed for the emerging artists\, this class provides training and guidance in developing both individual and ensemble performing skills. Students will explore topics related to organizing performance details\, developing independent practicing skills\, giving and implementing feedback\, and targeting performance related social skills. It is recommended that all participants are enrolled in an individual music lesson or individual music therapy in order to build their own personal repertoire.Click for more Info!
URL:https://spectrumcreativearts.org/event/prep-for-performance/2026-07-29/
LOCATION:Spectrum Creative Arts\, 3300 Monroe Avenue\, Rochester\, NY\, 14618\, United States
END:VEVENT
BEGIN:VEVENT
DTSTART;TZID=UTC:20260805T100000
DTEND;TZID=UTC:20260805T105000
DTSTAMP:20260423T121411
CREATED:20250911T211523Z
LAST-MODIFIED:20250911T211523Z
UID:10000779-1785924000-1785927000@spectrumcreativearts.org
SUMMARY:Prep for Performance
DESCRIPTION:Designed for the emerging artists\, this class provides training and guidance in developing both individual and ensemble performing skills. Students will explore topics related to organizing performance details\, developing independent practicing skills\, giving and implementing feedback\, and targeting performance related social skills. It is recommended that all participants are enrolled in an individual music lesson or individual music therapy in order to build their own personal repertoire.Click for more Info!
URL:https://spectrumcreativearts.org/event/prep-for-performance/2026-08-05/
LOCATION:Spectrum Creative Arts\, 3300 Monroe Avenue\, Rochester\, NY\, 14618\, United States
END:VEVENT
BEGIN:VEVENT
DTSTART;TZID=UTC:20260812T100000
DTEND;TZID=UTC:20260812T105000
DTSTAMP:20260423T121411
CREATED:20250911T211523Z
LAST-MODIFIED:20250911T211523Z
UID:10000780-1786528800-1786531800@spectrumcreativearts.org
SUMMARY:Prep for Performance
DESCRIPTION:Designed for the emerging artists\, this class provides training and guidance in developing both individual and ensemble performing skills. Students will explore topics related to organizing performance details\, developing independent practicing skills\, giving and implementing feedback\, and targeting performance related social skills. It is recommended that all participants are enrolled in an individual music lesson or individual music therapy in order to build their own personal repertoire.Click for more Info!
URL:https://spectrumcreativearts.org/event/prep-for-performance/2026-08-12/
LOCATION:Spectrum Creative Arts\, 3300 Monroe Avenue\, Rochester\, NY\, 14618\, United States
END:VEVENT
BEGIN:VEVENT
DTSTART;TZID=UTC:20260819T100000
DTEND;TZID=UTC:20260819T105000
DTSTAMP:20260423T121411
CREATED:20250911T211523Z
LAST-MODIFIED:20250911T211523Z
UID:10000781-1787133600-1787136600@spectrumcreativearts.org
SUMMARY:Prep for Performance
DESCRIPTION:Designed for the emerging artists\, this class provides training and guidance in developing both individual and ensemble performing skills. Students will explore topics related to organizing performance details\, developing independent practicing skills\, giving and implementing feedback\, and targeting performance related social skills. It is recommended that all participants are enrolled in an individual music lesson or individual music therapy in order to build their own personal repertoire.Click for more Info!
URL:https://spectrumcreativearts.org/event/prep-for-performance/2026-08-19/
LOCATION:Spectrum Creative Arts\, 3300 Monroe Avenue\, Rochester\, NY\, 14618\, United States
END:VEVENT
BEGIN:VEVENT
DTSTART;TZID=UTC:20260826T100000
DTEND;TZID=UTC:20260826T105000
DTSTAMP:20260423T121411
CREATED:20250911T211523Z
LAST-MODIFIED:20250911T211523Z
UID:10000782-1787738400-1787741400@spectrumcreativearts.org
SUMMARY:Prep for Performance
DESCRIPTION:Designed for the emerging artists\, this class provides training and guidance in developing both individual and ensemble performing skills. Students will explore topics related to organizing performance details\, developing independent practicing skills\, giving and implementing feedback\, and targeting performance related social skills. It is recommended that all participants are enrolled in an individual music lesson or individual music therapy in order to build their own personal repertoire.Click for more Info!
URL:https://spectrumcreativearts.org/event/prep-for-performance/2026-08-26/
LOCATION:Spectrum Creative Arts\, 3300 Monroe Avenue\, Rochester\, NY\, 14618\, United States
END:VEVENT
BEGIN:VEVENT
DTSTART;TZID=UTC:20260902T100000
DTEND;TZID=UTC:20260902T105000
DTSTAMP:20260423T121411
CREATED:20250911T211523Z
LAST-MODIFIED:20250911T211523Z
UID:10000783-1788343200-1788346200@spectrumcreativearts.org
SUMMARY:Prep for Performance
DESCRIPTION:Designed for the emerging artists\, this class provides training and guidance in developing both individual and ensemble performing skills. Students will explore topics related to organizing performance details\, developing independent practicing skills\, giving and implementing feedback\, and targeting performance related social skills. It is recommended that all participants are enrolled in an individual music lesson or individual music therapy in order to build their own personal repertoire.Click for more Info!
URL:https://spectrumcreativearts.org/event/prep-for-performance/2026-09-02/
LOCATION:Spectrum Creative Arts\, 3300 Monroe Avenue\, Rochester\, NY\, 14618\, United States
END:VEVENT
BEGIN:VEVENT
DTSTART;TZID=UTC:20260909T100000
DTEND;TZID=UTC:20260909T105000
DTSTAMP:20260423T121411
CREATED:20250911T211523Z
LAST-MODIFIED:20250911T211523Z
UID:10000784-1788948000-1788951000@spectrumcreativearts.org
SUMMARY:Prep for Performance
DESCRIPTION:Designed for the emerging artists\, this class provides training and guidance in developing both individual and ensemble performing skills. Students will explore topics related to organizing performance details\, developing independent practicing skills\, giving and implementing feedback\, and targeting performance related social skills. It is recommended that all participants are enrolled in an individual music lesson or individual music therapy in order to build their own personal repertoire.Click for more Info!
URL:https://spectrumcreativearts.org/event/prep-for-performance/2026-09-09/
LOCATION:Spectrum Creative Arts\, 3300 Monroe Avenue\, Rochester\, NY\, 14618\, United States
END:VEVENT
BEGIN:VEVENT
DTSTART;TZID=UTC:20260916T100000
DTEND;TZID=UTC:20260916T105000
DTSTAMP:20260423T121411
CREATED:20250911T211523Z
LAST-MODIFIED:20250911T211523Z
UID:10000785-1789552800-1789555800@spectrumcreativearts.org
SUMMARY:Prep for Performance
DESCRIPTION:Designed for the emerging artists\, this class provides training and guidance in developing both individual and ensemble performing skills. Students will explore topics related to organizing performance details\, developing independent practicing skills\, giving and implementing feedback\, and targeting performance related social skills. It is recommended that all participants are enrolled in an individual music lesson or individual music therapy in order to build their own personal repertoire.Click for more Info!
URL:https://spectrumcreativearts.org/event/prep-for-performance/2026-09-16/
LOCATION:Spectrum Creative Arts\, 3300 Monroe Avenue\, Rochester\, NY\, 14618\, United States
END:VEVENT
BEGIN:VEVENT
DTSTART;TZID=UTC:20260923T100000
DTEND;TZID=UTC:20260923T105000
DTSTAMP:20260423T121411
CREATED:20250911T211523Z
LAST-MODIFIED:20250911T211523Z
UID:10000786-1790157600-1790160600@spectrumcreativearts.org
SUMMARY:Prep for Performance
DESCRIPTION:Designed for the emerging artists\, this class provides training and guidance in developing both individual and ensemble performing skills. Students will explore topics related to organizing performance details\, developing independent practicing skills\, giving and implementing feedback\, and targeting performance related social skills. It is recommended that all participants are enrolled in an individual music lesson or individual music therapy in order to build their own personal repertoire.Click for more Info!
URL:https://spectrumcreativearts.org/event/prep-for-performance/2026-09-23/
LOCATION:Spectrum Creative Arts\, 3300 Monroe Avenue\, Rochester\, NY\, 14618\, United States
END:VEVENT
BEGIN:VEVENT
DTSTART;TZID=UTC:20260930T100000
DTEND;TZID=UTC:20260930T105000
DTSTAMP:20260423T121411
CREATED:20250911T211523Z
LAST-MODIFIED:20250911T211523Z
UID:10000787-1790762400-1790765400@spectrumcreativearts.org
SUMMARY:Prep for Performance
DESCRIPTION:Designed for the emerging artists\, this class provides training and guidance in developing both individual and ensemble performing skills. Students will explore topics related to organizing performance details\, developing independent practicing skills\, giving and implementing feedback\, and targeting performance related social skills. It is recommended that all participants are enrolled in an individual music lesson or individual music therapy in order to build their own personal repertoire.Click for more Info!
URL:https://spectrumcreativearts.org/event/prep-for-performance/2026-09-30/
LOCATION:Spectrum Creative Arts\, 3300 Monroe Avenue\, Rochester\, NY\, 14618\, United States
END:VEVENT
BEGIN:VEVENT
DTSTART;TZID=UTC:20261007T100000
DTEND;TZID=UTC:20261007T105000
DTSTAMP:20260423T121411
CREATED:20250911T211523Z
LAST-MODIFIED:20250911T211523Z
UID:10000788-1791367200-1791370200@spectrumcreativearts.org
SUMMARY:Prep for Performance
DESCRIPTION:Designed for the emerging artists\, this class provides training and guidance in developing both individual and ensemble performing skills. Students will explore topics related to organizing performance details\, developing independent practicing skills\, giving and implementing feedback\, and targeting performance related social skills. It is recommended that all participants are enrolled in an individual music lesson or individual music therapy in order to build their own personal repertoire.Click for more Info!
URL:https://spectrumcreativearts.org/event/prep-for-performance/2026-10-07/
LOCATION:Spectrum Creative Arts\, 3300 Monroe Avenue\, Rochester\, NY\, 14618\, United States
END:VEVENT
BEGIN:VEVENT
DTSTART;TZID=UTC:20261014T100000
DTEND;TZID=UTC:20261014T105000
DTSTAMP:20260423T121411
CREATED:20250911T211523Z
LAST-MODIFIED:20250911T211523Z
UID:10000789-1791972000-1791975000@spectrumcreativearts.org
SUMMARY:Prep for Performance
DESCRIPTION:Designed for the emerging artists\, this class provides training and guidance in developing both individual and ensemble performing skills. Students will explore topics related to organizing performance details\, developing independent practicing skills\, giving and implementing feedback\, and targeting performance related social skills. It is recommended that all participants are enrolled in an individual music lesson or individual music therapy in order to build their own personal repertoire.Click for more Info!
URL:https://spectrumcreativearts.org/event/prep-for-performance/2026-10-14/
LOCATION:Spectrum Creative Arts\, 3300 Monroe Avenue\, Rochester\, NY\, 14618\, United States
END:VEVENT
BEGIN:VEVENT
DTSTART;TZID=UTC:20261021T100000
DTEND;TZID=UTC:20261021T105000
DTSTAMP:20260423T121411
CREATED:20250911T211523Z
LAST-MODIFIED:20250911T211523Z
UID:10000790-1792576800-1792579800@spectrumcreativearts.org
SUMMARY:Prep for Performance
DESCRIPTION:Designed for the emerging artists\, this class provides training and guidance in developing both individual and ensemble performing skills. Students will explore topics related to organizing performance details\, developing independent practicing skills\, giving and implementing feedback\, and targeting performance related social skills. It is recommended that all participants are enrolled in an individual music lesson or individual music therapy in order to build their own personal repertoire.Click for more Info!
URL:https://spectrumcreativearts.org/event/prep-for-performance/2026-10-21/
LOCATION:Spectrum Creative Arts\, 3300 Monroe Avenue\, Rochester\, NY\, 14618\, United States
END:VEVENT
BEGIN:VEVENT
DTSTART;TZID=UTC:20261028T100000
DTEND;TZID=UTC:20261028T105000
DTSTAMP:20260423T121411
CREATED:20250911T211523Z
LAST-MODIFIED:20250911T211523Z
UID:10000791-1793181600-1793184600@spectrumcreativearts.org
SUMMARY:Prep for Performance
DESCRIPTION:Designed for the emerging artists\, this class provides training and guidance in developing both individual and ensemble performing skills. Students will explore topics related to organizing performance details\, developing independent practicing skills\, giving and implementing feedback\, and targeting performance related social skills. It is recommended that all participants are enrolled in an individual music lesson or individual music therapy in order to build their own personal repertoire.Click for more Info!
URL:https://spectrumcreativearts.org/event/prep-for-performance/2026-10-28/
LOCATION:Spectrum Creative Arts\, 3300 Monroe Avenue\, Rochester\, NY\, 14618\, United States
END:VEVENT
BEGIN:VEVENT
DTSTART;TZID=UTC:20261104T100000
DTEND;TZID=UTC:20261104T105000
DTSTAMP:20260423T121411
CREATED:20250911T211523Z
LAST-MODIFIED:20250911T211523Z
UID:10000792-1793786400-1793789400@spectrumcreativearts.org
SUMMARY:Prep for Performance
DESCRIPTION:Designed for the emerging artists\, this class provides training and guidance in developing both individual and ensemble performing skills. Students will explore topics related to organizing performance details\, developing independent practicing skills\, giving and implementing feedback\, and targeting performance related social skills. It is recommended that all participants are enrolled in an individual music lesson or individual music therapy in order to build their own personal repertoire.Click for more Info!
URL:https://spectrumcreativearts.org/event/prep-for-performance/2026-11-04/
LOCATION:Spectrum Creative Arts\, 3300 Monroe Avenue\, Rochester\, NY\, 14618\, United States
END:VEVENT
BEGIN:VEVENT
DTSTART;TZID=UTC:20261111T100000
DTEND;TZID=UTC:20261111T105000
DTSTAMP:20260423T121411
CREATED:20250911T211523Z
LAST-MODIFIED:20250911T211523Z
UID:10000793-1794391200-1794394200@spectrumcreativearts.org
SUMMARY:Prep for Performance
DESCRIPTION:Designed for the emerging artists\, this class provides training and guidance in developing both individual and ensemble performing skills. Students will explore topics related to organizing performance details\, developing independent practicing skills\, giving and implementing feedback\, and targeting performance related social skills. It is recommended that all participants are enrolled in an individual music lesson or individual music therapy in order to build their own personal repertoire.Click for more Info!
URL:https://spectrumcreativearts.org/event/prep-for-performance/2026-11-11/
LOCATION:Spectrum Creative Arts\, 3300 Monroe Avenue\, Rochester\, NY\, 14618\, United States
END:VEVENT
BEGIN:VEVENT
DTSTART;TZID=UTC:20261118T100000
DTEND;TZID=UTC:20261118T105000
DTSTAMP:20260423T121411
CREATED:20250911T211523Z
LAST-MODIFIED:20250911T211523Z
UID:10000794-1794996000-1794999000@spectrumcreativearts.org
SUMMARY:Prep for Performance
DESCRIPTION:Designed for the emerging artists\, this class provides training and guidance in developing both individual and ensemble performing skills. Students will explore topics related to organizing performance details\, developing independent practicing skills\, giving and implementing feedback\, and targeting performance related social skills. It is recommended that all participants are enrolled in an individual music lesson or individual music therapy in order to build their own personal repertoire.Click for more Info!
URL:https://spectrumcreativearts.org/event/prep-for-performance/2026-11-18/
LOCATION:Spectrum Creative Arts\, 3300 Monroe Avenue\, Rochester\, NY\, 14618\, United States
END:VEVENT
END:VCALENDAR