BEGIN:VCALENDAR
VERSION:2.0
PRODID:-//Spectrum Creative Arts - ECPv6.15.18//NONSGML v1.0//EN
CALSCALE:GREGORIAN
METHOD:PUBLISH
X-WR-CALNAME:Spectrum Creative Arts
X-ORIGINAL-URL:https://spectrumcreativearts.org
X-WR-CALDESC:Events for Spectrum Creative Arts
REFRESH-INTERVAL;VALUE=DURATION:PT1H
X-Robots-Tag:noindex
X-PUBLISHED-TTL:PT1H
BEGIN:VTIMEZONE
TZID:UTC
BEGIN:STANDARD
TZOFFSETFROM:+0000
TZOFFSETTO:+0000
TZNAME:UTC
DTSTART:20250101T000000
END:STANDARD
END:VTIMEZONE
BEGIN:VEVENT
DTSTART;TZID=UTC:20260429T080000
DTEND;TZID=UTC:20260429T170000
DTSTAMP:20260423T121426
CREATED:20250910T235303Z
LAST-MODIFIED:20250915T213434Z
UID:10000337-1777449600-1777482000@spectrumcreativearts.org
SUMMARY:Open Art
DESCRIPTION:This course will teach students to learn how artists navigate the creative process. This is an opportunity to be immersed in creativity and instruction. We will explore the Elements and Principles of art and how artists use them to create art. These Elements and Principles; line\, shape\, color\, value\, shape\, texture\, pattern\, to name a few\, are to ART like words are to a SENTENCE. \n  \nClick for more Info!
URL:https://spectrumcreativearts.org/event/open-art/2026-04-29/
LOCATION:Spectrum Creative Arts\, 3300 Monroe Avenue\, Rochester\, NY\, 14618\, United States
END:VEVENT
BEGIN:VEVENT
DTSTART;TZID=UTC:20260506T080000
DTEND;TZID=UTC:20260506T170000
DTSTAMP:20260423T121426
CREATED:20250910T235303Z
LAST-MODIFIED:20250915T213434Z
UID:10000338-1778054400-1778086800@spectrumcreativearts.org
SUMMARY:Open Art
DESCRIPTION:This course will teach students to learn how artists navigate the creative process. This is an opportunity to be immersed in creativity and instruction. We will explore the Elements and Principles of art and how artists use them to create art. These Elements and Principles; line\, shape\, color\, value\, shape\, texture\, pattern\, to name a few\, are to ART like words are to a SENTENCE. \n  \nClick for more Info!
URL:https://spectrumcreativearts.org/event/open-art/2026-05-06/
LOCATION:Spectrum Creative Arts\, 3300 Monroe Avenue\, Rochester\, NY\, 14618\, United States
END:VEVENT
BEGIN:VEVENT
DTSTART;TZID=UTC:20260513T080000
DTEND;TZID=UTC:20260513T170000
DTSTAMP:20260423T121426
CREATED:20250910T235303Z
LAST-MODIFIED:20250915T213434Z
UID:10000339-1778659200-1778691600@spectrumcreativearts.org
SUMMARY:Open Art
DESCRIPTION:This course will teach students to learn how artists navigate the creative process. This is an opportunity to be immersed in creativity and instruction. We will explore the Elements and Principles of art and how artists use them to create art. These Elements and Principles; line\, shape\, color\, value\, shape\, texture\, pattern\, to name a few\, are to ART like words are to a SENTENCE. \n  \nClick for more Info!
URL:https://spectrumcreativearts.org/event/open-art/2026-05-13/
LOCATION:Spectrum Creative Arts\, 3300 Monroe Avenue\, Rochester\, NY\, 14618\, United States
END:VEVENT
BEGIN:VEVENT
DTSTART;TZID=UTC:20260520T080000
DTEND;TZID=UTC:20260520T170000
DTSTAMP:20260423T121426
CREATED:20250910T235303Z
LAST-MODIFIED:20250915T213434Z
UID:10000340-1779264000-1779296400@spectrumcreativearts.org
SUMMARY:Open Art
DESCRIPTION:This course will teach students to learn how artists navigate the creative process. This is an opportunity to be immersed in creativity and instruction. We will explore the Elements and Principles of art and how artists use them to create art. These Elements and Principles; line\, shape\, color\, value\, shape\, texture\, pattern\, to name a few\, are to ART like words are to a SENTENCE. \n  \nClick for more Info!
URL:https://spectrumcreativearts.org/event/open-art/2026-05-20/
LOCATION:Spectrum Creative Arts\, 3300 Monroe Avenue\, Rochester\, NY\, 14618\, United States
END:VEVENT
BEGIN:VEVENT
DTSTART;TZID=UTC:20260527T080000
DTEND;TZID=UTC:20260527T170000
DTSTAMP:20260423T121426
CREATED:20250910T235303Z
LAST-MODIFIED:20250915T213434Z
UID:10000341-1779868800-1779901200@spectrumcreativearts.org
SUMMARY:Open Art
DESCRIPTION:This course will teach students to learn how artists navigate the creative process. This is an opportunity to be immersed in creativity and instruction. We will explore the Elements and Principles of art and how artists use them to create art. These Elements and Principles; line\, shape\, color\, value\, shape\, texture\, pattern\, to name a few\, are to ART like words are to a SENTENCE. \n  \nClick for more Info!
URL:https://spectrumcreativearts.org/event/open-art/2026-05-27/
LOCATION:Spectrum Creative Arts\, 3300 Monroe Avenue\, Rochester\, NY\, 14618\, United States
END:VEVENT
BEGIN:VEVENT
DTSTART;TZID=UTC:20260603T080000
DTEND;TZID=UTC:20260603T170000
DTSTAMP:20260423T121426
CREATED:20250910T235303Z
LAST-MODIFIED:20250915T213434Z
UID:10000342-1780473600-1780506000@spectrumcreativearts.org
SUMMARY:Open Art
DESCRIPTION:This course will teach students to learn how artists navigate the creative process. This is an opportunity to be immersed in creativity and instruction. We will explore the Elements and Principles of art and how artists use them to create art. These Elements and Principles; line\, shape\, color\, value\, shape\, texture\, pattern\, to name a few\, are to ART like words are to a SENTENCE. \n  \nClick for more Info!
URL:https://spectrumcreativearts.org/event/open-art/2026-06-03/
LOCATION:Spectrum Creative Arts\, 3300 Monroe Avenue\, Rochester\, NY\, 14618\, United States
END:VEVENT
BEGIN:VEVENT
DTSTART;TZID=UTC:20260610T080000
DTEND;TZID=UTC:20260610T170000
DTSTAMP:20260423T121426
CREATED:20250910T235303Z
LAST-MODIFIED:20250915T213434Z
UID:10000343-1781078400-1781110800@spectrumcreativearts.org
SUMMARY:Open Art
DESCRIPTION:This course will teach students to learn how artists navigate the creative process. This is an opportunity to be immersed in creativity and instruction. We will explore the Elements and Principles of art and how artists use them to create art. These Elements and Principles; line\, shape\, color\, value\, shape\, texture\, pattern\, to name a few\, are to ART like words are to a SENTENCE. \n  \nClick for more Info!
URL:https://spectrumcreativearts.org/event/open-art/2026-06-10/
LOCATION:Spectrum Creative Arts\, 3300 Monroe Avenue\, Rochester\, NY\, 14618\, United States
END:VEVENT
BEGIN:VEVENT
DTSTART;TZID=UTC:20260617T080000
DTEND;TZID=UTC:20260617T170000
DTSTAMP:20260423T121426
CREATED:20250910T235303Z
LAST-MODIFIED:20250915T213434Z
UID:10000344-1781683200-1781715600@spectrumcreativearts.org
SUMMARY:Open Art
DESCRIPTION:This course will teach students to learn how artists navigate the creative process. This is an opportunity to be immersed in creativity and instruction. We will explore the Elements and Principles of art and how artists use them to create art. These Elements and Principles; line\, shape\, color\, value\, shape\, texture\, pattern\, to name a few\, are to ART like words are to a SENTENCE. \n  \nClick for more Info!
URL:https://spectrumcreativearts.org/event/open-art/2026-06-17/
LOCATION:Spectrum Creative Arts\, 3300 Monroe Avenue\, Rochester\, NY\, 14618\, United States
END:VEVENT
BEGIN:VEVENT
DTSTART;TZID=UTC:20260624T080000
DTEND;TZID=UTC:20260624T170000
DTSTAMP:20260423T121426
CREATED:20250910T235303Z
LAST-MODIFIED:20250915T213434Z
UID:10000345-1782288000-1782320400@spectrumcreativearts.org
SUMMARY:Open Art
DESCRIPTION:This course will teach students to learn how artists navigate the creative process. This is an opportunity to be immersed in creativity and instruction. We will explore the Elements and Principles of art and how artists use them to create art. These Elements and Principles; line\, shape\, color\, value\, shape\, texture\, pattern\, to name a few\, are to ART like words are to a SENTENCE. \n  \nClick for more Info!
URL:https://spectrumcreativearts.org/event/open-art/2026-06-24/
LOCATION:Spectrum Creative Arts\, 3300 Monroe Avenue\, Rochester\, NY\, 14618\, United States
END:VEVENT
BEGIN:VEVENT
DTSTART;TZID=UTC:20260701T080000
DTEND;TZID=UTC:20260701T170000
DTSTAMP:20260423T121426
CREATED:20250910T235303Z
LAST-MODIFIED:20250915T213434Z
UID:10000346-1782892800-1782925200@spectrumcreativearts.org
SUMMARY:Open Art
DESCRIPTION:This course will teach students to learn how artists navigate the creative process. This is an opportunity to be immersed in creativity and instruction. We will explore the Elements and Principles of art and how artists use them to create art. These Elements and Principles; line\, shape\, color\, value\, shape\, texture\, pattern\, to name a few\, are to ART like words are to a SENTENCE. \n  \nClick for more Info!
URL:https://spectrumcreativearts.org/event/open-art/2026-07-01/
LOCATION:Spectrum Creative Arts\, 3300 Monroe Avenue\, Rochester\, NY\, 14618\, United States
END:VEVENT
BEGIN:VEVENT
DTSTART;TZID=UTC:20260708T080000
DTEND;TZID=UTC:20260708T170000
DTSTAMP:20260423T121426
CREATED:20250910T235303Z
LAST-MODIFIED:20250915T213434Z
UID:10000347-1783497600-1783530000@spectrumcreativearts.org
SUMMARY:Open Art
DESCRIPTION:This course will teach students to learn how artists navigate the creative process. This is an opportunity to be immersed in creativity and instruction. We will explore the Elements and Principles of art and how artists use them to create art. These Elements and Principles; line\, shape\, color\, value\, shape\, texture\, pattern\, to name a few\, are to ART like words are to a SENTENCE. \n  \nClick for more Info!
URL:https://spectrumcreativearts.org/event/open-art/2026-07-08/
LOCATION:Spectrum Creative Arts\, 3300 Monroe Avenue\, Rochester\, NY\, 14618\, United States
END:VEVENT
BEGIN:VEVENT
DTSTART;TZID=UTC:20260715T080000
DTEND;TZID=UTC:20260715T170000
DTSTAMP:20260423T121426
CREATED:20250910T235303Z
LAST-MODIFIED:20250915T213434Z
UID:10000348-1784102400-1784134800@spectrumcreativearts.org
SUMMARY:Open Art
DESCRIPTION:This course will teach students to learn how artists navigate the creative process. This is an opportunity to be immersed in creativity and instruction. We will explore the Elements and Principles of art and how artists use them to create art. These Elements and Principles; line\, shape\, color\, value\, shape\, texture\, pattern\, to name a few\, are to ART like words are to a SENTENCE. \n  \nClick for more Info!
URL:https://spectrumcreativearts.org/event/open-art/2026-07-15/
LOCATION:Spectrum Creative Arts\, 3300 Monroe Avenue\, Rochester\, NY\, 14618\, United States
END:VEVENT
BEGIN:VEVENT
DTSTART;TZID=UTC:20260722T080000
DTEND;TZID=UTC:20260722T170000
DTSTAMP:20260423T121426
CREATED:20250910T235303Z
LAST-MODIFIED:20250915T213434Z
UID:10000349-1784707200-1784739600@spectrumcreativearts.org
SUMMARY:Open Art
DESCRIPTION:This course will teach students to learn how artists navigate the creative process. This is an opportunity to be immersed in creativity and instruction. We will explore the Elements and Principles of art and how artists use them to create art. These Elements and Principles; line\, shape\, color\, value\, shape\, texture\, pattern\, to name a few\, are to ART like words are to a SENTENCE. \n  \nClick for more Info!
URL:https://spectrumcreativearts.org/event/open-art/2026-07-22/
LOCATION:Spectrum Creative Arts\, 3300 Monroe Avenue\, Rochester\, NY\, 14618\, United States
END:VEVENT
BEGIN:VEVENT
DTSTART;TZID=UTC:20260729T080000
DTEND;TZID=UTC:20260729T170000
DTSTAMP:20260423T121426
CREATED:20250910T235303Z
LAST-MODIFIED:20250915T213434Z
UID:10000350-1785312000-1785344400@spectrumcreativearts.org
SUMMARY:Open Art
DESCRIPTION:This course will teach students to learn how artists navigate the creative process. This is an opportunity to be immersed in creativity and instruction. We will explore the Elements and Principles of art and how artists use them to create art. These Elements and Principles; line\, shape\, color\, value\, shape\, texture\, pattern\, to name a few\, are to ART like words are to a SENTENCE. \n  \nClick for more Info!
URL:https://spectrumcreativearts.org/event/open-art/2026-07-29/
LOCATION:Spectrum Creative Arts\, 3300 Monroe Avenue\, Rochester\, NY\, 14618\, United States
END:VEVENT
BEGIN:VEVENT
DTSTART;TZID=UTC:20260805T080000
DTEND;TZID=UTC:20260805T170000
DTSTAMP:20260423T121426
CREATED:20250910T235303Z
LAST-MODIFIED:20250915T213434Z
UID:10000351-1785916800-1785949200@spectrumcreativearts.org
SUMMARY:Open Art
DESCRIPTION:This course will teach students to learn how artists navigate the creative process. This is an opportunity to be immersed in creativity and instruction. We will explore the Elements and Principles of art and how artists use them to create art. These Elements and Principles; line\, shape\, color\, value\, shape\, texture\, pattern\, to name a few\, are to ART like words are to a SENTENCE. \n  \nClick for more Info!
URL:https://spectrumcreativearts.org/event/open-art/2026-08-05/
LOCATION:Spectrum Creative Arts\, 3300 Monroe Avenue\, Rochester\, NY\, 14618\, United States
END:VEVENT
BEGIN:VEVENT
DTSTART;TZID=UTC:20260812T080000
DTEND;TZID=UTC:20260812T170000
DTSTAMP:20260423T121426
CREATED:20250910T235303Z
LAST-MODIFIED:20250915T213434Z
UID:10000352-1786521600-1786554000@spectrumcreativearts.org
SUMMARY:Open Art
DESCRIPTION:This course will teach students to learn how artists navigate the creative process. This is an opportunity to be immersed in creativity and instruction. We will explore the Elements and Principles of art and how artists use them to create art. These Elements and Principles; line\, shape\, color\, value\, shape\, texture\, pattern\, to name a few\, are to ART like words are to a SENTENCE. \n  \nClick for more Info!
URL:https://spectrumcreativearts.org/event/open-art/2026-08-12/
LOCATION:Spectrum Creative Arts\, 3300 Monroe Avenue\, Rochester\, NY\, 14618\, United States
END:VEVENT
BEGIN:VEVENT
DTSTART;TZID=UTC:20260819T080000
DTEND;TZID=UTC:20260819T170000
DTSTAMP:20260423T121426
CREATED:20250910T235303Z
LAST-MODIFIED:20250915T213434Z
UID:10000353-1787126400-1787158800@spectrumcreativearts.org
SUMMARY:Open Art
DESCRIPTION:This course will teach students to learn how artists navigate the creative process. This is an opportunity to be immersed in creativity and instruction. We will explore the Elements and Principles of art and how artists use them to create art. These Elements and Principles; line\, shape\, color\, value\, shape\, texture\, pattern\, to name a few\, are to ART like words are to a SENTENCE. \n  \nClick for more Info!
URL:https://spectrumcreativearts.org/event/open-art/2026-08-19/
LOCATION:Spectrum Creative Arts\, 3300 Monroe Avenue\, Rochester\, NY\, 14618\, United States
END:VEVENT
BEGIN:VEVENT
DTSTART;TZID=UTC:20260826T080000
DTEND;TZID=UTC:20260826T170000
DTSTAMP:20260423T121426
CREATED:20250910T235303Z
LAST-MODIFIED:20250915T213434Z
UID:10000354-1787731200-1787763600@spectrumcreativearts.org
SUMMARY:Open Art
DESCRIPTION:This course will teach students to learn how artists navigate the creative process. This is an opportunity to be immersed in creativity and instruction. We will explore the Elements and Principles of art and how artists use them to create art. These Elements and Principles; line\, shape\, color\, value\, shape\, texture\, pattern\, to name a few\, are to ART like words are to a SENTENCE. \n  \nClick for more Info!
URL:https://spectrumcreativearts.org/event/open-art/2026-08-26/
LOCATION:Spectrum Creative Arts\, 3300 Monroe Avenue\, Rochester\, NY\, 14618\, United States
END:VEVENT
BEGIN:VEVENT
DTSTART;TZID=UTC:20260902T080000
DTEND;TZID=UTC:20260902T170000
DTSTAMP:20260423T121426
CREATED:20250910T235303Z
LAST-MODIFIED:20250915T213434Z
UID:10000355-1788336000-1788368400@spectrumcreativearts.org
SUMMARY:Open Art
DESCRIPTION:This course will teach students to learn how artists navigate the creative process. This is an opportunity to be immersed in creativity and instruction. We will explore the Elements and Principles of art and how artists use them to create art. These Elements and Principles; line\, shape\, color\, value\, shape\, texture\, pattern\, to name a few\, are to ART like words are to a SENTENCE. \n  \nClick for more Info!
URL:https://spectrumcreativearts.org/event/open-art/2026-09-02/
LOCATION:Spectrum Creative Arts\, 3300 Monroe Avenue\, Rochester\, NY\, 14618\, United States
END:VEVENT
BEGIN:VEVENT
DTSTART;TZID=UTC:20260909T080000
DTEND;TZID=UTC:20260909T170000
DTSTAMP:20260423T121426
CREATED:20250910T235303Z
LAST-MODIFIED:20250915T213434Z
UID:10000356-1788940800-1788973200@spectrumcreativearts.org
SUMMARY:Open Art
DESCRIPTION:This course will teach students to learn how artists navigate the creative process. This is an opportunity to be immersed in creativity and instruction. We will explore the Elements and Principles of art and how artists use them to create art. These Elements and Principles; line\, shape\, color\, value\, shape\, texture\, pattern\, to name a few\, are to ART like words are to a SENTENCE. \n  \nClick for more Info!
URL:https://spectrumcreativearts.org/event/open-art/2026-09-09/
LOCATION:Spectrum Creative Arts\, 3300 Monroe Avenue\, Rochester\, NY\, 14618\, United States
END:VEVENT
BEGIN:VEVENT
DTSTART;TZID=UTC:20260916T080000
DTEND;TZID=UTC:20260916T170000
DTSTAMP:20260423T121426
CREATED:20250910T235303Z
LAST-MODIFIED:20250915T213434Z
UID:10000357-1789545600-1789578000@spectrumcreativearts.org
SUMMARY:Open Art
DESCRIPTION:This course will teach students to learn how artists navigate the creative process. This is an opportunity to be immersed in creativity and instruction. We will explore the Elements and Principles of art and how artists use them to create art. These Elements and Principles; line\, shape\, color\, value\, shape\, texture\, pattern\, to name a few\, are to ART like words are to a SENTENCE. \n  \nClick for more Info!
URL:https://spectrumcreativearts.org/event/open-art/2026-09-16/
LOCATION:Spectrum Creative Arts\, 3300 Monroe Avenue\, Rochester\, NY\, 14618\, United States
END:VEVENT
BEGIN:VEVENT
DTSTART;TZID=UTC:20260923T080000
DTEND;TZID=UTC:20260923T170000
DTSTAMP:20260423T121426
CREATED:20250910T235303Z
LAST-MODIFIED:20250915T213434Z
UID:10000358-1790150400-1790182800@spectrumcreativearts.org
SUMMARY:Open Art
DESCRIPTION:This course will teach students to learn how artists navigate the creative process. This is an opportunity to be immersed in creativity and instruction. We will explore the Elements and Principles of art and how artists use them to create art. These Elements and Principles; line\, shape\, color\, value\, shape\, texture\, pattern\, to name a few\, are to ART like words are to a SENTENCE. \n  \nClick for more Info!
URL:https://spectrumcreativearts.org/event/open-art/2026-09-23/
LOCATION:Spectrum Creative Arts\, 3300 Monroe Avenue\, Rochester\, NY\, 14618\, United States
END:VEVENT
BEGIN:VEVENT
DTSTART;TZID=UTC:20260930T080000
DTEND;TZID=UTC:20260930T170000
DTSTAMP:20260423T121426
CREATED:20250910T235303Z
LAST-MODIFIED:20250915T213434Z
UID:10000359-1790755200-1790787600@spectrumcreativearts.org
SUMMARY:Open Art
DESCRIPTION:This course will teach students to learn how artists navigate the creative process. This is an opportunity to be immersed in creativity and instruction. We will explore the Elements and Principles of art and how artists use them to create art. These Elements and Principles; line\, shape\, color\, value\, shape\, texture\, pattern\, to name a few\, are to ART like words are to a SENTENCE. \n  \nClick for more Info!
URL:https://spectrumcreativearts.org/event/open-art/2026-09-30/
LOCATION:Spectrum Creative Arts\, 3300 Monroe Avenue\, Rochester\, NY\, 14618\, United States
END:VEVENT
BEGIN:VEVENT
DTSTART;TZID=UTC:20261007T080000
DTEND;TZID=UTC:20261007T170000
DTSTAMP:20260423T121426
CREATED:20250910T235303Z
LAST-MODIFIED:20250915T213434Z
UID:10000360-1791360000-1791392400@spectrumcreativearts.org
SUMMARY:Open Art
DESCRIPTION:This course will teach students to learn how artists navigate the creative process. This is an opportunity to be immersed in creativity and instruction. We will explore the Elements and Principles of art and how artists use them to create art. These Elements and Principles; line\, shape\, color\, value\, shape\, texture\, pattern\, to name a few\, are to ART like words are to a SENTENCE. \n  \nClick for more Info!
URL:https://spectrumcreativearts.org/event/open-art/2026-10-07/
LOCATION:Spectrum Creative Arts\, 3300 Monroe Avenue\, Rochester\, NY\, 14618\, United States
END:VEVENT
BEGIN:VEVENT
DTSTART;TZID=UTC:20261014T080000
DTEND;TZID=UTC:20261014T170000
DTSTAMP:20260423T121426
CREATED:20250910T235303Z
LAST-MODIFIED:20250915T213434Z
UID:10000361-1791964800-1791997200@spectrumcreativearts.org
SUMMARY:Open Art
DESCRIPTION:This course will teach students to learn how artists navigate the creative process. This is an opportunity to be immersed in creativity and instruction. We will explore the Elements and Principles of art and how artists use them to create art. These Elements and Principles; line\, shape\, color\, value\, shape\, texture\, pattern\, to name a few\, are to ART like words are to a SENTENCE. \n  \nClick for more Info!
URL:https://spectrumcreativearts.org/event/open-art/2026-10-14/
LOCATION:Spectrum Creative Arts\, 3300 Monroe Avenue\, Rochester\, NY\, 14618\, United States
END:VEVENT
BEGIN:VEVENT
DTSTART;TZID=UTC:20261021T080000
DTEND;TZID=UTC:20261021T170000
DTSTAMP:20260423T121426
CREATED:20250910T235303Z
LAST-MODIFIED:20250915T213434Z
UID:10000362-1792569600-1792602000@spectrumcreativearts.org
SUMMARY:Open Art
DESCRIPTION:This course will teach students to learn how artists navigate the creative process. This is an opportunity to be immersed in creativity and instruction. We will explore the Elements and Principles of art and how artists use them to create art. These Elements and Principles; line\, shape\, color\, value\, shape\, texture\, pattern\, to name a few\, are to ART like words are to a SENTENCE. \n  \nClick for more Info!
URL:https://spectrumcreativearts.org/event/open-art/2026-10-21/
LOCATION:Spectrum Creative Arts\, 3300 Monroe Avenue\, Rochester\, NY\, 14618\, United States
END:VEVENT
BEGIN:VEVENT
DTSTART;TZID=UTC:20261028T080000
DTEND;TZID=UTC:20261028T170000
DTSTAMP:20260423T121426
CREATED:20250910T235303Z
LAST-MODIFIED:20250915T213434Z
UID:10000363-1793174400-1793206800@spectrumcreativearts.org
SUMMARY:Open Art
DESCRIPTION:This course will teach students to learn how artists navigate the creative process. This is an opportunity to be immersed in creativity and instruction. We will explore the Elements and Principles of art and how artists use them to create art. These Elements and Principles; line\, shape\, color\, value\, shape\, texture\, pattern\, to name a few\, are to ART like words are to a SENTENCE. \n  \nClick for more Info!
URL:https://spectrumcreativearts.org/event/open-art/2026-10-28/
LOCATION:Spectrum Creative Arts\, 3300 Monroe Avenue\, Rochester\, NY\, 14618\, United States
END:VEVENT
BEGIN:VEVENT
DTSTART;TZID=UTC:20261104T080000
DTEND;TZID=UTC:20261104T170000
DTSTAMP:20260423T121426
CREATED:20250910T235303Z
LAST-MODIFIED:20250915T213434Z
UID:10000364-1793779200-1793811600@spectrumcreativearts.org
SUMMARY:Open Art
DESCRIPTION:This course will teach students to learn how artists navigate the creative process. This is an opportunity to be immersed in creativity and instruction. We will explore the Elements and Principles of art and how artists use them to create art. These Elements and Principles; line\, shape\, color\, value\, shape\, texture\, pattern\, to name a few\, are to ART like words are to a SENTENCE. \n  \nClick for more Info!
URL:https://spectrumcreativearts.org/event/open-art/2026-11-04/
LOCATION:Spectrum Creative Arts\, 3300 Monroe Avenue\, Rochester\, NY\, 14618\, United States
END:VEVENT
BEGIN:VEVENT
DTSTART;TZID=UTC:20261111T080000
DTEND;TZID=UTC:20261111T170000
DTSTAMP:20260423T121426
CREATED:20250910T235303Z
LAST-MODIFIED:20250915T213434Z
UID:10000365-1794384000-1794416400@spectrumcreativearts.org
SUMMARY:Open Art
DESCRIPTION:This course will teach students to learn how artists navigate the creative process. This is an opportunity to be immersed in creativity and instruction. We will explore the Elements and Principles of art and how artists use them to create art. These Elements and Principles; line\, shape\, color\, value\, shape\, texture\, pattern\, to name a few\, are to ART like words are to a SENTENCE. \n  \nClick for more Info!
URL:https://spectrumcreativearts.org/event/open-art/2026-11-11/
LOCATION:Spectrum Creative Arts\, 3300 Monroe Avenue\, Rochester\, NY\, 14618\, United States
END:VEVENT
BEGIN:VEVENT
DTSTART;TZID=UTC:20261118T080000
DTEND;TZID=UTC:20261118T170000
DTSTAMP:20260423T121426
CREATED:20250910T235303Z
LAST-MODIFIED:20250915T213434Z
UID:10000366-1794988800-1795021200@spectrumcreativearts.org
SUMMARY:Open Art
DESCRIPTION:This course will teach students to learn how artists navigate the creative process. This is an opportunity to be immersed in creativity and instruction. We will explore the Elements and Principles of art and how artists use them to create art. These Elements and Principles; line\, shape\, color\, value\, shape\, texture\, pattern\, to name a few\, are to ART like words are to a SENTENCE. \n  \nClick for more Info!
URL:https://spectrumcreativearts.org/event/open-art/2026-11-18/
LOCATION:Spectrum Creative Arts\, 3300 Monroe Avenue\, Rochester\, NY\, 14618\, United States
END:VEVENT
END:VCALENDAR