BEGIN:VCALENDAR
VERSION:2.0
PRODID:-//Spectrum Creative Arts - ECPv6.15.18//NONSGML v1.0//EN
CALSCALE:GREGORIAN
METHOD:PUBLISH
X-WR-CALNAME:Spectrum Creative Arts
X-ORIGINAL-URL:https://spectrumcreativearts.org
X-WR-CALDESC:Events for Spectrum Creative Arts
REFRESH-INTERVAL;VALUE=DURATION:PT1H
X-Robots-Tag:noindex
X-PUBLISHED-TTL:PT1H
BEGIN:VTIMEZONE
TZID:UTC
BEGIN:STANDARD
TZOFFSETFROM:+0000
TZOFFSETTO:+0000
TZNAME:UTC
DTSTART:20250101T000000
END:STANDARD
END:VTIMEZONE
BEGIN:VEVENT
DTSTART;TZID=UTC:20260423T040000
DTEND;TZID=UTC:20260423T175000
DTSTAMP:20260423T121420
CREATED:20250910T234648Z
LAST-MODIFIED:20250910T234932Z
UID:10000228-1776916800-1776966600@spectrumcreativearts.org
SUMMARY:Sing Out!
DESCRIPTION:This choir is designed for aspiring vocalists to express themselves freely and passionately through music. Classes also offer training and support in both solo and group performance techniques. Participants will delve into aspects of preparing for performances\, engaging in individual practice habits\, receiving and applying constructive feedback\, and fostering performance-related interpersonal skills.Click for more class info!
URL:https://spectrumcreativearts.org/event/sing-out/2026-04-23/
LOCATION:Spectrum Creative Arts\, 3300 Monroe Avenue\, Rochester\, NY\, 14618\, United States
END:VEVENT
BEGIN:VEVENT
DTSTART;TZID=UTC:20260430T040000
DTEND;TZID=UTC:20260430T175000
DTSTAMP:20260423T121420
CREATED:20250910T234648Z
LAST-MODIFIED:20250910T234932Z
UID:10000229-1777521600-1777571400@spectrumcreativearts.org
SUMMARY:Sing Out!
DESCRIPTION:This choir is designed for aspiring vocalists to express themselves freely and passionately through music. Classes also offer training and support in both solo and group performance techniques. Participants will delve into aspects of preparing for performances\, engaging in individual practice habits\, receiving and applying constructive feedback\, and fostering performance-related interpersonal skills.Click for more class info!
URL:https://spectrumcreativearts.org/event/sing-out/2026-04-30/
LOCATION:Spectrum Creative Arts\, 3300 Monroe Avenue\, Rochester\, NY\, 14618\, United States
END:VEVENT
BEGIN:VEVENT
DTSTART;TZID=UTC:20260507T040000
DTEND;TZID=UTC:20260507T175000
DTSTAMP:20260423T121420
CREATED:20250910T234648Z
LAST-MODIFIED:20250910T234932Z
UID:10000230-1778126400-1778176200@spectrumcreativearts.org
SUMMARY:Sing Out!
DESCRIPTION:This choir is designed for aspiring vocalists to express themselves freely and passionately through music. Classes also offer training and support in both solo and group performance techniques. Participants will delve into aspects of preparing for performances\, engaging in individual practice habits\, receiving and applying constructive feedback\, and fostering performance-related interpersonal skills.Click for more class info!
URL:https://spectrumcreativearts.org/event/sing-out/2026-05-07/
LOCATION:Spectrum Creative Arts\, 3300 Monroe Avenue\, Rochester\, NY\, 14618\, United States
END:VEVENT
BEGIN:VEVENT
DTSTART;TZID=UTC:20260514T040000
DTEND;TZID=UTC:20260514T175000
DTSTAMP:20260423T121420
CREATED:20250910T234648Z
LAST-MODIFIED:20250910T234932Z
UID:10000231-1778731200-1778781000@spectrumcreativearts.org
SUMMARY:Sing Out!
DESCRIPTION:This choir is designed for aspiring vocalists to express themselves freely and passionately through music. Classes also offer training and support in both solo and group performance techniques. Participants will delve into aspects of preparing for performances\, engaging in individual practice habits\, receiving and applying constructive feedback\, and fostering performance-related interpersonal skills.Click for more class info!
URL:https://spectrumcreativearts.org/event/sing-out/2026-05-14/
LOCATION:Spectrum Creative Arts\, 3300 Monroe Avenue\, Rochester\, NY\, 14618\, United States
END:VEVENT
BEGIN:VEVENT
DTSTART;TZID=UTC:20260521T040000
DTEND;TZID=UTC:20260521T175000
DTSTAMP:20260423T121420
CREATED:20250910T234648Z
LAST-MODIFIED:20250910T234932Z
UID:10000232-1779336000-1779385800@spectrumcreativearts.org
SUMMARY:Sing Out!
DESCRIPTION:This choir is designed for aspiring vocalists to express themselves freely and passionately through music. Classes also offer training and support in both solo and group performance techniques. Participants will delve into aspects of preparing for performances\, engaging in individual practice habits\, receiving and applying constructive feedback\, and fostering performance-related interpersonal skills.Click for more class info!
URL:https://spectrumcreativearts.org/event/sing-out/2026-05-21/
LOCATION:Spectrum Creative Arts\, 3300 Monroe Avenue\, Rochester\, NY\, 14618\, United States
END:VEVENT
BEGIN:VEVENT
DTSTART;TZID=UTC:20260528T040000
DTEND;TZID=UTC:20260528T175000
DTSTAMP:20260423T121420
CREATED:20250910T234648Z
LAST-MODIFIED:20250910T234932Z
UID:10000233-1779940800-1779990600@spectrumcreativearts.org
SUMMARY:Sing Out!
DESCRIPTION:This choir is designed for aspiring vocalists to express themselves freely and passionately through music. Classes also offer training and support in both solo and group performance techniques. Participants will delve into aspects of preparing for performances\, engaging in individual practice habits\, receiving and applying constructive feedback\, and fostering performance-related interpersonal skills.Click for more class info!
URL:https://spectrumcreativearts.org/event/sing-out/2026-05-28/
LOCATION:Spectrum Creative Arts\, 3300 Monroe Avenue\, Rochester\, NY\, 14618\, United States
END:VEVENT
BEGIN:VEVENT
DTSTART;TZID=UTC:20260604T040000
DTEND;TZID=UTC:20260604T175000
DTSTAMP:20260423T121420
CREATED:20250910T234648Z
LAST-MODIFIED:20250910T234932Z
UID:10000234-1780545600-1780595400@spectrumcreativearts.org
SUMMARY:Sing Out!
DESCRIPTION:This choir is designed for aspiring vocalists to express themselves freely and passionately through music. Classes also offer training and support in both solo and group performance techniques. Participants will delve into aspects of preparing for performances\, engaging in individual practice habits\, receiving and applying constructive feedback\, and fostering performance-related interpersonal skills.Click for more class info!
URL:https://spectrumcreativearts.org/event/sing-out/2026-06-04/
LOCATION:Spectrum Creative Arts\, 3300 Monroe Avenue\, Rochester\, NY\, 14618\, United States
END:VEVENT
BEGIN:VEVENT
DTSTART;TZID=UTC:20260611T040000
DTEND;TZID=UTC:20260611T175000
DTSTAMP:20260423T121420
CREATED:20250910T234648Z
LAST-MODIFIED:20250910T234932Z
UID:10000235-1781150400-1781200200@spectrumcreativearts.org
SUMMARY:Sing Out!
DESCRIPTION:This choir is designed for aspiring vocalists to express themselves freely and passionately through music. Classes also offer training and support in both solo and group performance techniques. Participants will delve into aspects of preparing for performances\, engaging in individual practice habits\, receiving and applying constructive feedback\, and fostering performance-related interpersonal skills.Click for more class info!
URL:https://spectrumcreativearts.org/event/sing-out/2026-06-11/
LOCATION:Spectrum Creative Arts\, 3300 Monroe Avenue\, Rochester\, NY\, 14618\, United States
END:VEVENT
BEGIN:VEVENT
DTSTART;TZID=UTC:20260618T040000
DTEND;TZID=UTC:20260618T175000
DTSTAMP:20260423T121420
CREATED:20250910T234648Z
LAST-MODIFIED:20250910T234932Z
UID:10000236-1781755200-1781805000@spectrumcreativearts.org
SUMMARY:Sing Out!
DESCRIPTION:This choir is designed for aspiring vocalists to express themselves freely and passionately through music. Classes also offer training and support in both solo and group performance techniques. Participants will delve into aspects of preparing for performances\, engaging in individual practice habits\, receiving and applying constructive feedback\, and fostering performance-related interpersonal skills.Click for more class info!
URL:https://spectrumcreativearts.org/event/sing-out/2026-06-18/
LOCATION:Spectrum Creative Arts\, 3300 Monroe Avenue\, Rochester\, NY\, 14618\, United States
END:VEVENT
BEGIN:VEVENT
DTSTART;TZID=UTC:20260625T040000
DTEND;TZID=UTC:20260625T175000
DTSTAMP:20260423T121420
CREATED:20250910T234648Z
LAST-MODIFIED:20250910T234932Z
UID:10000237-1782360000-1782409800@spectrumcreativearts.org
SUMMARY:Sing Out!
DESCRIPTION:This choir is designed for aspiring vocalists to express themselves freely and passionately through music. Classes also offer training and support in both solo and group performance techniques. Participants will delve into aspects of preparing for performances\, engaging in individual practice habits\, receiving and applying constructive feedback\, and fostering performance-related interpersonal skills.Click for more class info!
URL:https://spectrumcreativearts.org/event/sing-out/2026-06-25/
LOCATION:Spectrum Creative Arts\, 3300 Monroe Avenue\, Rochester\, NY\, 14618\, United States
END:VEVENT
BEGIN:VEVENT
DTSTART;TZID=UTC:20260702T040000
DTEND;TZID=UTC:20260702T175000
DTSTAMP:20260423T121420
CREATED:20250910T234648Z
LAST-MODIFIED:20250910T234932Z
UID:10000238-1782964800-1783014600@spectrumcreativearts.org
SUMMARY:Sing Out!
DESCRIPTION:This choir is designed for aspiring vocalists to express themselves freely and passionately through music. Classes also offer training and support in both solo and group performance techniques. Participants will delve into aspects of preparing for performances\, engaging in individual practice habits\, receiving and applying constructive feedback\, and fostering performance-related interpersonal skills.Click for more class info!
URL:https://spectrumcreativearts.org/event/sing-out/2026-07-02/
LOCATION:Spectrum Creative Arts\, 3300 Monroe Avenue\, Rochester\, NY\, 14618\, United States
END:VEVENT
BEGIN:VEVENT
DTSTART;TZID=UTC:20260709T040000
DTEND;TZID=UTC:20260709T175000
DTSTAMP:20260423T121420
CREATED:20250910T234648Z
LAST-MODIFIED:20250910T234932Z
UID:10000239-1783569600-1783619400@spectrumcreativearts.org
SUMMARY:Sing Out!
DESCRIPTION:This choir is designed for aspiring vocalists to express themselves freely and passionately through music. Classes also offer training and support in both solo and group performance techniques. Participants will delve into aspects of preparing for performances\, engaging in individual practice habits\, receiving and applying constructive feedback\, and fostering performance-related interpersonal skills.Click for more class info!
URL:https://spectrumcreativearts.org/event/sing-out/2026-07-09/
LOCATION:Spectrum Creative Arts\, 3300 Monroe Avenue\, Rochester\, NY\, 14618\, United States
END:VEVENT
BEGIN:VEVENT
DTSTART;TZID=UTC:20260716T040000
DTEND;TZID=UTC:20260716T175000
DTSTAMP:20260423T121420
CREATED:20250910T234648Z
LAST-MODIFIED:20250910T234932Z
UID:10000240-1784174400-1784224200@spectrumcreativearts.org
SUMMARY:Sing Out!
DESCRIPTION:This choir is designed for aspiring vocalists to express themselves freely and passionately through music. Classes also offer training and support in both solo and group performance techniques. Participants will delve into aspects of preparing for performances\, engaging in individual practice habits\, receiving and applying constructive feedback\, and fostering performance-related interpersonal skills.Click for more class info!
URL:https://spectrumcreativearts.org/event/sing-out/2026-07-16/
LOCATION:Spectrum Creative Arts\, 3300 Monroe Avenue\, Rochester\, NY\, 14618\, United States
END:VEVENT
BEGIN:VEVENT
DTSTART;TZID=UTC:20260723T040000
DTEND;TZID=UTC:20260723T175000
DTSTAMP:20260423T121420
CREATED:20250910T234648Z
LAST-MODIFIED:20250910T234932Z
UID:10000241-1784779200-1784829000@spectrumcreativearts.org
SUMMARY:Sing Out!
DESCRIPTION:This choir is designed for aspiring vocalists to express themselves freely and passionately through music. Classes also offer training and support in both solo and group performance techniques. Participants will delve into aspects of preparing for performances\, engaging in individual practice habits\, receiving and applying constructive feedback\, and fostering performance-related interpersonal skills.Click for more class info!
URL:https://spectrumcreativearts.org/event/sing-out/2026-07-23/
LOCATION:Spectrum Creative Arts\, 3300 Monroe Avenue\, Rochester\, NY\, 14618\, United States
END:VEVENT
BEGIN:VEVENT
DTSTART;TZID=UTC:20260730T040000
DTEND;TZID=UTC:20260730T175000
DTSTAMP:20260423T121420
CREATED:20250910T234648Z
LAST-MODIFIED:20250910T234932Z
UID:10000242-1785384000-1785433800@spectrumcreativearts.org
SUMMARY:Sing Out!
DESCRIPTION:This choir is designed for aspiring vocalists to express themselves freely and passionately through music. Classes also offer training and support in both solo and group performance techniques. Participants will delve into aspects of preparing for performances\, engaging in individual practice habits\, receiving and applying constructive feedback\, and fostering performance-related interpersonal skills.Click for more class info!
URL:https://spectrumcreativearts.org/event/sing-out/2026-07-30/
LOCATION:Spectrum Creative Arts\, 3300 Monroe Avenue\, Rochester\, NY\, 14618\, United States
END:VEVENT
BEGIN:VEVENT
DTSTART;TZID=UTC:20260806T040000
DTEND;TZID=UTC:20260806T175000
DTSTAMP:20260423T121420
CREATED:20250910T234648Z
LAST-MODIFIED:20250910T234932Z
UID:10000243-1785988800-1786038600@spectrumcreativearts.org
SUMMARY:Sing Out!
DESCRIPTION:This choir is designed for aspiring vocalists to express themselves freely and passionately through music. Classes also offer training and support in both solo and group performance techniques. Participants will delve into aspects of preparing for performances\, engaging in individual practice habits\, receiving and applying constructive feedback\, and fostering performance-related interpersonal skills.Click for more class info!
URL:https://spectrumcreativearts.org/event/sing-out/2026-08-06/
LOCATION:Spectrum Creative Arts\, 3300 Monroe Avenue\, Rochester\, NY\, 14618\, United States
END:VEVENT
BEGIN:VEVENT
DTSTART;TZID=UTC:20260813T040000
DTEND;TZID=UTC:20260813T175000
DTSTAMP:20260423T121420
CREATED:20250910T234648Z
LAST-MODIFIED:20250910T234932Z
UID:10000244-1786593600-1786643400@spectrumcreativearts.org
SUMMARY:Sing Out!
DESCRIPTION:This choir is designed for aspiring vocalists to express themselves freely and passionately through music. Classes also offer training and support in both solo and group performance techniques. Participants will delve into aspects of preparing for performances\, engaging in individual practice habits\, receiving and applying constructive feedback\, and fostering performance-related interpersonal skills.Click for more class info!
URL:https://spectrumcreativearts.org/event/sing-out/2026-08-13/
LOCATION:Spectrum Creative Arts\, 3300 Monroe Avenue\, Rochester\, NY\, 14618\, United States
END:VEVENT
BEGIN:VEVENT
DTSTART;TZID=UTC:20260820T040000
DTEND;TZID=UTC:20260820T175000
DTSTAMP:20260423T121420
CREATED:20250910T234648Z
LAST-MODIFIED:20250910T234932Z
UID:10000245-1787198400-1787248200@spectrumcreativearts.org
SUMMARY:Sing Out!
DESCRIPTION:This choir is designed for aspiring vocalists to express themselves freely and passionately through music. Classes also offer training and support in both solo and group performance techniques. Participants will delve into aspects of preparing for performances\, engaging in individual practice habits\, receiving and applying constructive feedback\, and fostering performance-related interpersonal skills.Click for more class info!
URL:https://spectrumcreativearts.org/event/sing-out/2026-08-20/
LOCATION:Spectrum Creative Arts\, 3300 Monroe Avenue\, Rochester\, NY\, 14618\, United States
END:VEVENT
BEGIN:VEVENT
DTSTART;TZID=UTC:20260827T040000
DTEND;TZID=UTC:20260827T175000
DTSTAMP:20260423T121420
CREATED:20250910T234648Z
LAST-MODIFIED:20250910T234932Z
UID:10000246-1787803200-1787853000@spectrumcreativearts.org
SUMMARY:Sing Out!
DESCRIPTION:This choir is designed for aspiring vocalists to express themselves freely and passionately through music. Classes also offer training and support in both solo and group performance techniques. Participants will delve into aspects of preparing for performances\, engaging in individual practice habits\, receiving and applying constructive feedback\, and fostering performance-related interpersonal skills.Click for more class info!
URL:https://spectrumcreativearts.org/event/sing-out/2026-08-27/
LOCATION:Spectrum Creative Arts\, 3300 Monroe Avenue\, Rochester\, NY\, 14618\, United States
END:VEVENT
BEGIN:VEVENT
DTSTART;TZID=UTC:20260903T040000
DTEND;TZID=UTC:20260903T175000
DTSTAMP:20260423T121420
CREATED:20250910T234648Z
LAST-MODIFIED:20250910T234932Z
UID:10000247-1788408000-1788457800@spectrumcreativearts.org
SUMMARY:Sing Out!
DESCRIPTION:This choir is designed for aspiring vocalists to express themselves freely and passionately through music. Classes also offer training and support in both solo and group performance techniques. Participants will delve into aspects of preparing for performances\, engaging in individual practice habits\, receiving and applying constructive feedback\, and fostering performance-related interpersonal skills.Click for more class info!
URL:https://spectrumcreativearts.org/event/sing-out/2026-09-03/
LOCATION:Spectrum Creative Arts\, 3300 Monroe Avenue\, Rochester\, NY\, 14618\, United States
END:VEVENT
BEGIN:VEVENT
DTSTART;TZID=UTC:20260910T040000
DTEND;TZID=UTC:20260910T175000
DTSTAMP:20260423T121420
CREATED:20250910T234648Z
LAST-MODIFIED:20250910T234932Z
UID:10000248-1789012800-1789062600@spectrumcreativearts.org
SUMMARY:Sing Out!
DESCRIPTION:This choir is designed for aspiring vocalists to express themselves freely and passionately through music. Classes also offer training and support in both solo and group performance techniques. Participants will delve into aspects of preparing for performances\, engaging in individual practice habits\, receiving and applying constructive feedback\, and fostering performance-related interpersonal skills.Click for more class info!
URL:https://spectrumcreativearts.org/event/sing-out/2026-09-10/
LOCATION:Spectrum Creative Arts\, 3300 Monroe Avenue\, Rochester\, NY\, 14618\, United States
END:VEVENT
BEGIN:VEVENT
DTSTART;TZID=UTC:20260917T040000
DTEND;TZID=UTC:20260917T175000
DTSTAMP:20260423T121420
CREATED:20250910T234648Z
LAST-MODIFIED:20250910T234932Z
UID:10000249-1789617600-1789667400@spectrumcreativearts.org
SUMMARY:Sing Out!
DESCRIPTION:This choir is designed for aspiring vocalists to express themselves freely and passionately through music. Classes also offer training and support in both solo and group performance techniques. Participants will delve into aspects of preparing for performances\, engaging in individual practice habits\, receiving and applying constructive feedback\, and fostering performance-related interpersonal skills.Click for more class info!
URL:https://spectrumcreativearts.org/event/sing-out/2026-09-17/
LOCATION:Spectrum Creative Arts\, 3300 Monroe Avenue\, Rochester\, NY\, 14618\, United States
END:VEVENT
BEGIN:VEVENT
DTSTART;TZID=UTC:20260924T040000
DTEND;TZID=UTC:20260924T175000
DTSTAMP:20260423T121420
CREATED:20250910T234648Z
LAST-MODIFIED:20250910T234932Z
UID:10000250-1790222400-1790272200@spectrumcreativearts.org
SUMMARY:Sing Out!
DESCRIPTION:This choir is designed for aspiring vocalists to express themselves freely and passionately through music. Classes also offer training and support in both solo and group performance techniques. Participants will delve into aspects of preparing for performances\, engaging in individual practice habits\, receiving and applying constructive feedback\, and fostering performance-related interpersonal skills.Click for more class info!
URL:https://spectrumcreativearts.org/event/sing-out/2026-09-24/
LOCATION:Spectrum Creative Arts\, 3300 Monroe Avenue\, Rochester\, NY\, 14618\, United States
END:VEVENT
BEGIN:VEVENT
DTSTART;TZID=UTC:20261001T040000
DTEND;TZID=UTC:20261001T175000
DTSTAMP:20260423T121420
CREATED:20250910T234648Z
LAST-MODIFIED:20250910T234932Z
UID:10000251-1790827200-1790877000@spectrumcreativearts.org
SUMMARY:Sing Out!
DESCRIPTION:This choir is designed for aspiring vocalists to express themselves freely and passionately through music. Classes also offer training and support in both solo and group performance techniques. Participants will delve into aspects of preparing for performances\, engaging in individual practice habits\, receiving and applying constructive feedback\, and fostering performance-related interpersonal skills.Click for more class info!
URL:https://spectrumcreativearts.org/event/sing-out/2026-10-01/
LOCATION:Spectrum Creative Arts\, 3300 Monroe Avenue\, Rochester\, NY\, 14618\, United States
END:VEVENT
BEGIN:VEVENT
DTSTART;TZID=UTC:20261008T040000
DTEND;TZID=UTC:20261008T175000
DTSTAMP:20260423T121420
CREATED:20250910T234648Z
LAST-MODIFIED:20250910T234932Z
UID:10000252-1791432000-1791481800@spectrumcreativearts.org
SUMMARY:Sing Out!
DESCRIPTION:This choir is designed for aspiring vocalists to express themselves freely and passionately through music. Classes also offer training and support in both solo and group performance techniques. Participants will delve into aspects of preparing for performances\, engaging in individual practice habits\, receiving and applying constructive feedback\, and fostering performance-related interpersonal skills.Click for more class info!
URL:https://spectrumcreativearts.org/event/sing-out/2026-10-08/
LOCATION:Spectrum Creative Arts\, 3300 Monroe Avenue\, Rochester\, NY\, 14618\, United States
END:VEVENT
BEGIN:VEVENT
DTSTART;TZID=UTC:20261015T040000
DTEND;TZID=UTC:20261015T175000
DTSTAMP:20260423T121420
CREATED:20250910T234648Z
LAST-MODIFIED:20250910T234932Z
UID:10000253-1792036800-1792086600@spectrumcreativearts.org
SUMMARY:Sing Out!
DESCRIPTION:This choir is designed for aspiring vocalists to express themselves freely and passionately through music. Classes also offer training and support in both solo and group performance techniques. Participants will delve into aspects of preparing for performances\, engaging in individual practice habits\, receiving and applying constructive feedback\, and fostering performance-related interpersonal skills.Click for more class info!
URL:https://spectrumcreativearts.org/event/sing-out/2026-10-15/
LOCATION:Spectrum Creative Arts\, 3300 Monroe Avenue\, Rochester\, NY\, 14618\, United States
END:VEVENT
BEGIN:VEVENT
DTSTART;TZID=UTC:20261022T040000
DTEND;TZID=UTC:20261022T175000
DTSTAMP:20260423T121420
CREATED:20250910T234648Z
LAST-MODIFIED:20250910T234932Z
UID:10000254-1792641600-1792691400@spectrumcreativearts.org
SUMMARY:Sing Out!
DESCRIPTION:This choir is designed for aspiring vocalists to express themselves freely and passionately through music. Classes also offer training and support in both solo and group performance techniques. Participants will delve into aspects of preparing for performances\, engaging in individual practice habits\, receiving and applying constructive feedback\, and fostering performance-related interpersonal skills.Click for more class info!
URL:https://spectrumcreativearts.org/event/sing-out/2026-10-22/
LOCATION:Spectrum Creative Arts\, 3300 Monroe Avenue\, Rochester\, NY\, 14618\, United States
END:VEVENT
BEGIN:VEVENT
DTSTART;TZID=UTC:20261029T040000
DTEND;TZID=UTC:20261029T175000
DTSTAMP:20260423T121420
CREATED:20250910T234648Z
LAST-MODIFIED:20250910T234932Z
UID:10000255-1793246400-1793296200@spectrumcreativearts.org
SUMMARY:Sing Out!
DESCRIPTION:This choir is designed for aspiring vocalists to express themselves freely and passionately through music. Classes also offer training and support in both solo and group performance techniques. Participants will delve into aspects of preparing for performances\, engaging in individual practice habits\, receiving and applying constructive feedback\, and fostering performance-related interpersonal skills.Click for more class info!
URL:https://spectrumcreativearts.org/event/sing-out/2026-10-29/
LOCATION:Spectrum Creative Arts\, 3300 Monroe Avenue\, Rochester\, NY\, 14618\, United States
END:VEVENT
BEGIN:VEVENT
DTSTART;TZID=UTC:20261105T040000
DTEND;TZID=UTC:20261105T175000
DTSTAMP:20260423T121420
CREATED:20250910T234648Z
LAST-MODIFIED:20250910T234932Z
UID:10000256-1793851200-1793901000@spectrumcreativearts.org
SUMMARY:Sing Out!
DESCRIPTION:This choir is designed for aspiring vocalists to express themselves freely and passionately through music. Classes also offer training and support in both solo and group performance techniques. Participants will delve into aspects of preparing for performances\, engaging in individual practice habits\, receiving and applying constructive feedback\, and fostering performance-related interpersonal skills.Click for more class info!
URL:https://spectrumcreativearts.org/event/sing-out/2026-11-05/
LOCATION:Spectrum Creative Arts\, 3300 Monroe Avenue\, Rochester\, NY\, 14618\, United States
END:VEVENT
BEGIN:VEVENT
DTSTART;TZID=UTC:20261112T040000
DTEND;TZID=UTC:20261112T175000
DTSTAMP:20260423T121420
CREATED:20250910T234648Z
LAST-MODIFIED:20250910T234932Z
UID:10000257-1794456000-1794505800@spectrumcreativearts.org
SUMMARY:Sing Out!
DESCRIPTION:This choir is designed for aspiring vocalists to express themselves freely and passionately through music. Classes also offer training and support in both solo and group performance techniques. Participants will delve into aspects of preparing for performances\, engaging in individual practice habits\, receiving and applying constructive feedback\, and fostering performance-related interpersonal skills.Click for more class info!
URL:https://spectrumcreativearts.org/event/sing-out/2026-11-12/
LOCATION:Spectrum Creative Arts\, 3300 Monroe Avenue\, Rochester\, NY\, 14618\, United States
END:VEVENT
END:VCALENDAR