BEGIN:VCALENDAR
VERSION:2.0
PRODID:-//Spectrum Creative Arts - ECPv6.15.18//NONSGML v1.0//EN
CALSCALE:GREGORIAN
METHOD:PUBLISH
X-ORIGINAL-URL:https://spectrumcreativearts.org
X-WR-CALDESC:Events for Spectrum Creative Arts
REFRESH-INTERVAL;VALUE=DURATION:PT1H
X-Robots-Tag:noindex
X-PUBLISHED-TTL:PT1H
BEGIN:VTIMEZONE
TZID:UTC
BEGIN:STANDARD
TZOFFSETFROM:+0000
TZOFFSETTO:+0000
TZNAME:UTC
DTSTART:20180101T000000
END:STANDARD
END:VTIMEZONE
BEGIN:VEVENT
DTSTART;VALUE=DATE:20210726
DTEND;VALUE=DATE:20210727
DTSTAMP:20260424T030910
CREATED:20210729T184455Z
LAST-MODIFIED:20210729T184455Z
UID:10000151-1627257600-1627343999@spectrumcreativearts.org
SUMMARY:Fall Class Registration Opens
DESCRIPTION:
URL:https://spectrumcreativearts.org/event/fall-class-registration-opens/
LOCATION:Spectrum Creative Arts\, 3300 Monroe Avenue\, Rochester\, NY\, 14618\, United States
CATEGORIES:Registration Dates
END:VEVENT
BEGIN:VEVENT
DTSTART;VALUE=DATE:20210111
DTEND;VALUE=DATE:20210112
DTSTAMP:20260424T030910
CREATED:20201118T001318Z
LAST-MODIFIED:20201118T001318Z
UID:10000001-1610323200-1610409599@spectrumcreativearts.org
SUMMARY:Winter Classes Begin
DESCRIPTION:
URL:https://spectrumcreativearts.org/event/winter-classes-begin-2/
LOCATION:NY
CATEGORIES:Registration Dates
END:VEVENT
BEGIN:VEVENT
DTSTART;VALUE=DATE:20201130
DTEND;VALUE=DATE:20201201
DTSTAMP:20260424T030910
CREATED:20201118T001056Z
LAST-MODIFIED:20201118T001056Z
UID:10000004-1606694400-1606780799@spectrumcreativearts.org
SUMMARY:Winter Class Registration Opens
DESCRIPTION:
URL:https://spectrumcreativearts.org/event/winter-class-registration-opens/
LOCATION:NY
CATEGORIES:Registration Dates
END:VEVENT
BEGIN:VEVENT
DTSTART;VALUE=DATE:20200914
DTEND;VALUE=DATE:20200915
DTSTAMP:20260424T030910
CREATED:20200818T175103Z
LAST-MODIFIED:20200818T175103Z
UID:10000080-1600041600-1600127999@spectrumcreativearts.org
SUMMARY:Fall Classes Begin
DESCRIPTION:
URL:https://spectrumcreativearts.org/event/fall-classes-begin-2/
LOCATION:NY
CATEGORIES:Registration Dates
END:VEVENT
BEGIN:VEVENT
DTSTART;VALUE=DATE:20200810
DTEND;VALUE=DATE:20200811
DTSTAMP:20260424T030910
CREATED:20200818T174512Z
LAST-MODIFIED:20200818T174512Z
UID:10000088-1597017600-1597103999@spectrumcreativearts.org
SUMMARY:Fall Registration Open
DESCRIPTION:
URL:https://spectrumcreativearts.org/event/fall-registration-open/
LOCATION:NY
CATEGORIES:Registration Dates
END:VEVENT
BEGIN:VEVENT
DTSTART;VALUE=DATE:20200706
DTEND;VALUE=DATE:20200707
DTSTAMP:20260424T030910
CREATED:20200611T193740Z
LAST-MODIFIED:20200611T193740Z
UID:10000073-1593993600-1594079999@spectrumcreativearts.org
SUMMARY:Virtual Summer Classes Begin
DESCRIPTION:
URL:https://spectrumcreativearts.org/event/virtual-summer-classes-begin/
LOCATION:NY
CATEGORIES:Registration Dates
END:VEVENT
BEGIN:VEVENT
DTSTART;VALUE=DATE:20200608
DTEND;VALUE=DATE:20200609
DTSTAMP:20260424T030910
CREATED:20200611T193126Z
LAST-MODIFIED:20200611T193126Z
UID:10000071-1591574400-1591660799@spectrumcreativearts.org
SUMMARY:Summer Class Registration Opens
DESCRIPTION:
URL:https://spectrumcreativearts.org/event/summer-class-registration-opens/
LOCATION:NY
CATEGORIES:Registration Dates
END:VEVENT
BEGIN:VEVENT
DTSTART;VALUE=DATE:20200302
DTEND;VALUE=DATE:20200304
DTSTAMP:20260424T030910
CREATED:20200226T021653Z
LAST-MODIFIED:20200226T021653Z
UID:10000076-1583107200-1583279999@spectrumcreativearts.org
SUMMARY:Early Bird Registration Days
DESCRIPTION:
URL:https://spectrumcreativearts.org/event/early-bird-registration-days/
LOCATION:NY
CATEGORIES:Registration Dates
END:VEVENT
BEGIN:VEVENT
DTSTART;VALUE=DATE:20200302
DTEND;VALUE=DATE:20200303
DTSTAMP:20260424T030910
CREATED:20200226T021547Z
LAST-MODIFIED:20200226T021547Z
UID:10000075-1583107200-1583193599@spectrumcreativearts.org
SUMMARY:Spring Class Registration Opens!
DESCRIPTION:
URL:https://spectrumcreativearts.org/event/spring-class-registration-opens/
LOCATION:NY
CATEGORIES:Registration Dates
END:VEVENT
BEGIN:VEVENT
DTSTART;VALUE=DATE:20191213
DTEND;VALUE=DATE:20191214
DTSTAMP:20260424T030910
CREATED:20191107T221520Z
LAST-MODIFIED:20191107T221520Z
UID:10000015-1576195200-1576281599@spectrumcreativearts.org
SUMMARY:Winter Registration Closes
DESCRIPTION:
URL:https://spectrumcreativearts.org/event/winter-registration-closes/
LOCATION:NY
CATEGORIES:Registration Dates
END:VEVENT
BEGIN:VEVENT
DTSTART;VALUE=DATE:20191104
DTEND;VALUE=DATE:20191106
DTSTAMP:20260424T030910
CREATED:20191107T221739Z
LAST-MODIFIED:20191107T221819Z
UID:10000078-1572825600-1572998399@spectrumcreativearts.org
SUMMARY:Early Bird Registration Day!
DESCRIPTION:
URL:https://spectrumcreativearts.org/event/early-bird-registration-day/
LOCATION:NY
CATEGORIES:Registration Dates
END:VEVENT
BEGIN:VEVENT
DTSTART;VALUE=DATE:20190520
DTEND;VALUE=DATE:20190522
DTSTAMP:20260424T030910
CREATED:20190304T213417Z
LAST-MODIFIED:20190510T224312Z
UID:10000068-1558310400-1558483199@spectrumcreativearts.org
SUMMARY:Summer Early Bird Registration Day
DESCRIPTION:
URL:https://spectrumcreativearts.org/event/summer-early-bird-registration-day/
LOCATION:NY
CATEGORIES:Registration Dates
END:VEVENT
BEGIN:VEVENT
DTSTART;VALUE=DATE:20190520
DTEND;VALUE=DATE:20190521
DTSTAMP:20260424T030910
CREATED:20190304T213325Z
LAST-MODIFIED:20190510T224420Z
UID:10000070-1558310400-1558396799@spectrumcreativearts.org
SUMMARY:Summer Registration Opens
DESCRIPTION:
URL:https://spectrumcreativearts.org/event/summer-registration-opens/
LOCATION:NY
CATEGORIES:Registration Dates
END:VEVENT
BEGIN:VEVENT
DTSTART;VALUE=DATE:20190422
DTEND;VALUE=DATE:20190423
DTSTAMP:20260424T030911
CREATED:20190304T213203Z
LAST-MODIFIED:20190304T213203Z
UID:10000064-1555891200-1555977599@spectrumcreativearts.org
SUMMARY:Spring Classes Begin
DESCRIPTION:
URL:https://spectrumcreativearts.org/event/spring-classes-begin/
LOCATION:NY
CATEGORIES:Registration Dates
END:VEVENT
BEGIN:VEVENT
DTSTART;VALUE=DATE:20190422
DTEND;VALUE=DATE:20190423
DTSTAMP:20260424T030911
CREATED:20190304T213121Z
LAST-MODIFIED:20190304T213121Z
UID:10000058-1555891200-1555977599@spectrumcreativearts.org
SUMMARY:Spring Semester Begins
DESCRIPTION:
URL:https://spectrumcreativearts.org/event/spring-semester-begins/
LOCATION:NY
CATEGORIES:Registration Dates
END:VEVENT
BEGIN:VEVENT
DTSTART;VALUE=DATE:20190413
DTEND;VALUE=DATE:20190414
DTSTAMP:20260424T030911
CREATED:20190304T212843Z
LAST-MODIFIED:20190304T212843Z
UID:10000063-1555113600-1555199999@spectrumcreativearts.org
SUMMARY:Winter Semester Ends
DESCRIPTION:
URL:https://spectrumcreativearts.org/event/winter-semester-ends/
LOCATION:NY
CATEGORIES:Registration Dates
END:VEVENT
BEGIN:VEVENT
DTSTART;VALUE=DATE:20190311
DTEND;VALUE=DATE:20190313
DTSTAMP:20260424T030911
CREATED:20190304T213038Z
LAST-MODIFIED:20190304T213038Z
UID:10000057-1552262400-1552435199@spectrumcreativearts.org
SUMMARY:Spring Early Bird Registration
DESCRIPTION:Register on March 11th or 12th and we’ll waive the $10.00 registration fee!
URL:https://spectrumcreativearts.org/event/spring-early-bird-registration/
LOCATION:NY
CATEGORIES:Registration Dates
END:VEVENT
BEGIN:VEVENT
DTSTART;VALUE=DATE:20190311
DTEND;VALUE=DATE:20190312
DTSTAMP:20260424T030911
CREATED:20190304T212932Z
LAST-MODIFIED:20190304T212932Z
UID:10000059-1552262400-1552348799@spectrumcreativearts.org
SUMMARY:Spring Registration Opens
DESCRIPTION:
URL:https://spectrumcreativearts.org/event/spring-registration-opens/
LOCATION:NY
CATEGORIES:Registration Dates
END:VEVENT
BEGIN:VEVENT
DTSTART;VALUE=DATE:20190107
DTEND;VALUE=DATE:20190108
DTSTAMP:20260424T030911
CREATED:20190118T002946Z
LAST-MODIFIED:20190118T002946Z
UID:10000045-1546819200-1546905599@spectrumcreativearts.org
SUMMARY:Winter Classes Begin
DESCRIPTION:
URL:https://spectrumcreativearts.org/event/winter-classes-begin/
LOCATION:Spectrum Creative Arts\, 3300 Monroe Avenue\, Rochester\, NY\, 14618\, United States
CATEGORIES:Registration Dates
END:VEVENT
BEGIN:VEVENT
DTSTART;VALUE=DATE:20190102
DTEND;VALUE=DATE:20190103
DTSTAMP:20260424T030911
CREATED:20190118T002848Z
LAST-MODIFIED:20190118T002848Z
UID:10000044-1546387200-1546473599@spectrumcreativearts.org
SUMMARY:Winter Semester Begins
DESCRIPTION:
URL:https://spectrumcreativearts.org/event/winter-semester-begins/
LOCATION:Spectrum Creative Arts\, 3300 Monroe Avenue\, Rochester\, NY\, 14618\, United States
CATEGORIES:Registration Dates
END:VEVENT
END:VCALENDAR