BEGIN:VCALENDAR
VERSION:2.0
PRODID:-//Spectrum Creative Arts - ECPv6.15.18//NONSGML v1.0//EN
CALSCALE:GREGORIAN
METHOD:PUBLISH
X-ORIGINAL-URL:https://spectrumcreativearts.org
X-WR-CALDESC:Events for Spectrum Creative Arts
REFRESH-INTERVAL;VALUE=DURATION:PT1H
X-Robots-Tag:noindex
X-PUBLISHED-TTL:PT1H
BEGIN:VTIMEZONE
TZID:UTC
BEGIN:STANDARD
TZOFFSETFROM:+0000
TZOFFSETTO:+0000
TZNAME:UTC
DTSTART:20240101T000000
END:STANDARD
END:VTIMEZONE
BEGIN:VEVENT
DTSTART;TZID=UTC:20250625T180000
DTEND;TZID=UTC:20250625T193000
DTSTAMP:20260424T120009
CREATED:20250529T193717Z
LAST-MODIFIED:20250529T193717Z
UID:10000174-1750874400-1750879800@spectrumcreativearts.org
SUMMARY:2025 Summer Showcase
DESCRIPTION:We’re so excited to invite our community to the 2025 Spectrum Creative Arts Summer Showcase—a heartwarming evening of performances from the talented students participating in our programs. Whether it’s their first time on stage or one of many\, this event celebrates each student’s creativity\, growth\, and dedication. \n📅 Date: Wednesday\, June 25🕕 Time: 6:00 PM📍 Location: Shewan Recital Hall\, Roberts Wesleyan University \nThis free event is open to the public\, so please share with friends and family! We’re proud of our students and can’t wait for you to see what they’ve been working on.
URL:https://spectrumcreativearts.org/event/2025-summer-showcase/
LOCATION:Roberts Wesleyan University\, 2301 Westside Drive\, Rochester\, NY\, 14624\, United States
CATEGORIES:Performance
ATTACH;FMTTYPE=image/png:https://spectrumcreativearts.org/wp-content/uploads/2025/05/2025-SPECTRUM-SUMMER-SHOWCASE-Facebook-Post.png
END:VEVENT
END:VCALENDAR