BEGIN:VCALENDAR
VERSION:2.0
PRODID:-//Spectrum Creative Arts - ECPv6.15.18//NONSGML v1.0//EN
CALSCALE:GREGORIAN
METHOD:PUBLISH
X-ORIGINAL-URL:https://spectrumcreativearts.org
X-WR-CALDESC:Events for Spectrum Creative Arts
REFRESH-INTERVAL;VALUE=DURATION:PT1H
X-Robots-Tag:noindex
X-PUBLISHED-TTL:PT1H
BEGIN:VTIMEZONE
TZID:America/New_York
BEGIN:DAYLIGHT
TZOFFSETFROM:-0500
TZOFFSETTO:-0400
TZNAME:EDT
DTSTART:20250309T070000
END:DAYLIGHT
BEGIN:STANDARD
TZOFFSETFROM:-0400
TZOFFSETTO:-0500
TZNAME:EST
DTSTART:20251102T060000
END:STANDARD
BEGIN:DAYLIGHT
TZOFFSETFROM:-0500
TZOFFSETTO:-0400
TZNAME:EDT
DTSTART:20260308T070000
END:DAYLIGHT
BEGIN:STANDARD
TZOFFSETFROM:-0400
TZOFFSETTO:-0500
TZNAME:EST
DTSTART:20261101T060000
END:STANDARD
BEGIN:DAYLIGHT
TZOFFSETFROM:-0500
TZOFFSETTO:-0400
TZNAME:EDT
DTSTART:20270314T070000
END:DAYLIGHT
BEGIN:STANDARD
TZOFFSETFROM:-0400
TZOFFSETTO:-0500
TZNAME:EST
DTSTART:20271107T060000
END:STANDARD
END:VTIMEZONE
BEGIN:VEVENT
DTSTART;TZID=America/New_York:20260319T180000
DTEND;TZID=America/New_York:20260319T185000
DTSTAMP:20260423T175344
CREATED:20260217T190053Z
LAST-MODIFIED:20260217T190442Z
UID:10001288-1773943200-1773946200@spectrumcreativearts.org
SUMMARY:Karaoke Night at Spectrum 🎤
DESCRIPTION:Join us for an evening of music\, laughter\, and community at Spectrum’s Karaoke Night on Thursday\, March 19th from 6:00–6:50 PM! \nWhether you love belting out power ballads\, singing your favorite pop hits\, or cheering on friends from the audience\, this event is all about fun\, connection\, and creative expression. Karaoke Night is designed to be an inclusive\, supportive space where participants of all abilities can feel confident stepping up to the mic — or simply enjoying the show. \nRegistration & Credits:Participants may use two 30-minute credits or one 60-minute credit to attend. \nYou can register by: \n\n\nSigning up through My Music Staff \n\n\nCalling 585-383-1999 \n\n\nEmailing office@spectrumcreativearts.org \n\n\nSpots are limited\, so we encourage early registration. We can’t wait to sing with you! 🎶
URL:https://spectrumcreativearts.org/event/karaoke-night-at-spectrum-%f0%9f%8e%a4/
LOCATION:Spectrum Creative Arts\, 3300 Monroe Avenue\, Rochester\, NY\, 14618\, United States
CATEGORIES:Makeup Credit Event
ATTACH;FMTTYPE=image/png:https://spectrumcreativearts.org/wp-content/uploads/2026/02/SCA-Karaoke-Night-Presentation-1.png
END:VEVENT
BEGIN:VEVENT
DTSTART;TZID=America/New_York:20260212T180000
DTEND;TZID=America/New_York:20260212T185000
DTSTAMP:20260423T175344
CREATED:20260119T171229Z
LAST-MODIFIED:20260119T171444Z
UID:10001287-1770919200-1770922200@spectrumcreativearts.org
SUMMARY:Drum Together: An Evening of Rhythm and Fun!
DESCRIPTION:Join us for Drum Together\, a fun and engaging group experience focused on rhythm\, music-making\, and connection. This all-ages group is open to children\, teens\, and adults\, and no previous musical experience is required. \nParticipants will take part in a variety of interactive drumming and rhythm activities led by our music therapy interns\, Emily and Amélie. Activities are designed to be accessible\, inclusive\, and enjoyable for a wide range of ages and abilities. \nEvent Details \n\n\nThursday\, February 12 \n\n\n6:00–6:50 PM \n\n\nRecommended for ages 7 through adult \n\n\nSpace is limited to 15 participants \n\n\nMakeup Credit InformationStudents with makeup credits may apply: \n\n\n1 sixty-minute makeup credit\, or \n\n\n2 thirty-minute makeup creditsto participate in this event.Students without makeup credits may register for $15. \n\n\nRegistration is required and can be completed through the Student Portal or by calling our Front Office at 585-383-1999. \nWe look forward to an evening of music\, movement\, and drumming together!
URL:https://spectrumcreativearts.org/event/drum-together-an-evening-of-rhythm-and-fun/
LOCATION:Spectrum Creative Arts\, 3300 Monroe Avenue\, Rochester\, NY\, 14618\, United States
CATEGORIES:Makeup Credit Event
ATTACH;FMTTYPE=image/png:https://spectrumcreativearts.org/wp-content/uploads/2026/01/Drum-Together-Makeup-Credit-Slide-4.png
END:VEVENT
END:VCALENDAR