BEGIN:VCALENDAR
VERSION:2.0
PRODID:-//Spectrum Creative Arts - ECPv6.15.18//NONSGML v1.0//EN
CALSCALE:GREGORIAN
METHOD:PUBLISH
X-ORIGINAL-URL:https://spectrumcreativearts.org
X-WR-CALDESC:Events for Spectrum Creative Arts
REFRESH-INTERVAL;VALUE=DURATION:PT1H
X-Robots-Tag:noindex
X-PUBLISHED-TTL:PT1H
BEGIN:VTIMEZONE
TZID:UTC
BEGIN:STANDARD
TZOFFSETFROM:+0000
TZOFFSETTO:+0000
TZNAME:UTC
DTSTART:20230101T000000
END:STANDARD
END:VTIMEZONE
BEGIN:VEVENT
DTSTART;TZID=UTC:20241115T170000
DTEND;TZID=UTC:20241115T175000
DTSTAMP:20260424T214418
CREATED:20241022T002153Z
LAST-MODIFIED:20241023T233454Z
UID:10000173-1731690000-1731693000@spectrumcreativearts.org
SUMMARY:Drumming Together: SCA Community Drum Circle
DESCRIPTION:Spectrum students and families are invited to join us for an evening of community drumming! \nRegister through the My Music Staff Student Portal\, or give us a call at (585) 383-1999. \n 
URL:https://spectrumcreativearts.org/event/drumming-together-sca-community-drum-circle/
LOCATION:Spectrum Creative Arts\, 3300 Monroe Avenue\, Rochester\, NY\, 14618\, United States
CATEGORIES:Community Event
ATTACH;FMTTYPE=image/png:https://spectrumcreativearts.org/wp-content/uploads/2024/10/Brown-and-White-Illustrative-Welcome-Autumn-Flyer-1.png
END:VEVENT
END:VCALENDAR