BEGIN:VCALENDAR
VERSION:2.0
PRODID:-//Spectrum Creative Arts - ECPv6.15.18//NONSGML v1.0//EN
CALSCALE:GREGORIAN
METHOD:PUBLISH
X-WR-CALNAME:Spectrum Creative Arts
X-ORIGINAL-URL:https://spectrumcreativearts.org
X-WR-CALDESC:Events for Spectrum Creative Arts
REFRESH-INTERVAL;VALUE=DURATION:PT1H
X-Robots-Tag:noindex
X-PUBLISHED-TTL:PT1H
BEGIN:VTIMEZONE
TZID:UTC
BEGIN:STANDARD
TZOFFSETFROM:+0000
TZOFFSETTO:+0000
TZNAME:UTC
DTSTART:20170101T000000
END:STANDARD
END:VTIMEZONE
BEGIN:VEVENT
DTSTART;VALUE=DATE:20200217
DTEND;VALUE=DATE:20200223
DTSTAMP:20260424T044954
CREATED:20200207T013408Z
LAST-MODIFIED:20200207T013408Z
UID:10000077-1581897600-1582415999@spectrumcreativearts.org
SUMMARY:Winter Break (Spectrum Closed)
DESCRIPTION:
URL:https://spectrumcreativearts.org/event/winter-break-spectrum-closed-2/
LOCATION:Spectrum Creative Arts\, 3300 Monroe Avenue\, Rochester\, NY\, 14618\, United States
CATEGORIES:Closings & Holidays
END:VEVENT
BEGIN:VEVENT
DTSTART;VALUE=DATE:20190415
DTEND;VALUE=DATE:20190421
DTSTAMP:20260424T044954
CREATED:20190306T013515Z
LAST-MODIFIED:20190306T013515Z
UID:10000067-1555286400-1555804799@spectrumcreativearts.org
SUMMARY:Spring Break (Spectrum Closed)
DESCRIPTION:
URL:https://spectrumcreativearts.org/event/spring-break-spectrum-closed/
LOCATION:NY
CATEGORIES:Closings & Holidays
END:VEVENT
BEGIN:VEVENT
DTSTART;VALUE=DATE:20190315
DTEND;VALUE=DATE:20190316
DTSTAMP:20260424T044954
CREATED:20190306T013420Z
LAST-MODIFIED:20190306T013420Z
UID:10000066-1552608000-1552694399@spectrumcreativearts.org
SUMMARY:Professional Development Day (Spectrum Closed\, Staff Report)
DESCRIPTION:
URL:https://spectrumcreativearts.org/event/professional-development-day-spectrum-closed-staff-report/
LOCATION:NY
CATEGORIES:Closings & Holidays
END:VEVENT
BEGIN:VEVENT
DTSTART;VALUE=DATE:20190218
DTEND;VALUE=DATE:20190224
DTSTAMP:20260424T044954
CREATED:20190118T003248Z
LAST-MODIFIED:20190118T003248Z
UID:10000056-1550448000-1550966399@spectrumcreativearts.org
SUMMARY:Winter Break (Spectrum Closed)
DESCRIPTION:
URL:https://spectrumcreativearts.org/event/winter-break-spectrum-closed/
LOCATION:Spectrum Creative Arts\, 3300 Monroe Avenue\, Rochester\, NY\, 14618\, United States
CATEGORIES:Closings & Holidays
END:VEVENT
BEGIN:VEVENT
DTSTART;VALUE=DATE:20190121
DTEND;VALUE=DATE:20190122
DTSTAMP:20260424T044954
CREATED:20190118T003117Z
LAST-MODIFIED:20190118T003117Z
UID:10000047-1548028800-1548115199@spectrumcreativearts.org
SUMMARY:Martin Luther King Jr. Day (Spectrum Closed)
DESCRIPTION:
URL:https://spectrumcreativearts.org/event/martin-luther-king-jr-day-spectrum-closed/
LOCATION:Spectrum Creative Arts\, 3300 Monroe Avenue\, Rochester\, NY\, 14618\, United States
CATEGORIES:Closings & Holidays
END:VEVENT
BEGIN:VEVENT
DTSTART;VALUE=DATE:20190101
DTEND;VALUE=DATE:20190102
DTSTAMP:20260424T044954
CREATED:20190306T013329Z
LAST-MODIFIED:20190306T013329Z
UID:10000065-1546300800-1546387199@spectrumcreativearts.org
SUMMARY:New Year's Day (Spectrum Closed)
DESCRIPTION:
URL:https://spectrumcreativearts.org/event/new-years-day-spectrum-closed/
LOCATION:NY
CATEGORIES:Closings & Holidays
END:VEVENT
BEGIN:VEVENT
DTSTART;VALUE=DATE:20181121
DTEND;VALUE=DATE:20181125
DTSTAMP:20260424T044954
CREATED:20181110T080527Z
LAST-MODIFIED:20181110T080527Z
UID:10000034-1542758400-1543103999@spectrumcreativearts.org
SUMMARY:Thanksgiving Break: Spectrum Closed
DESCRIPTION:
URL:https://spectrumcreativearts.org/event/thanksgiving-break-spectrum-closed/
LOCATION:NY
CATEGORIES:Closings & Holidays
END:VEVENT
BEGIN:VEVENT
DTSTART;VALUE=DATE:20181112
DTEND;VALUE=DATE:20181113
DTSTAMP:20260424T044954
CREATED:20181110T080446Z
LAST-MODIFIED:20181110T080446Z
UID:10000026-1541980800-1542067199@spectrumcreativearts.org
SUMMARY:Veteran's Day: Spectrum Closed
DESCRIPTION:
URL:https://spectrumcreativearts.org/event/veterans-day-spectrum-closed/
LOCATION:NY
CATEGORIES:Closings & Holidays
END:VEVENT
END:VCALENDAR