BEGIN:VCALENDAR
VERSION:2.0
PRODID:-//Spectrum Creative Arts - ECPv6.15.18//NONSGML v1.0//EN
CALSCALE:GREGORIAN
METHOD:PUBLISH
X-ORIGINAL-URL:https://spectrumcreativearts.org
X-WR-CALDESC:Events for Spectrum Creative Arts
REFRESH-INTERVAL;VALUE=DURATION:PT1H
X-Robots-Tag:noindex
X-PUBLISHED-TTL:PT1H
BEGIN:VTIMEZONE
TZID:UTC
BEGIN:STANDARD
TZOFFSETFROM:+0000
TZOFFSETTO:+0000
TZNAME:UTC
DTSTART:20190101T000000
END:STANDARD
END:VTIMEZONE
BEGIN:VEVENT
DTSTART;VALUE=DATE:20250901
DTEND;VALUE=DATE:20250902
DTSTAMP:20260424T001851
CREATED:20250821T221749Z
LAST-MODIFIED:20250821T221749Z
UID:10000179-1756684800-1756771199@spectrumcreativearts.org
SUMMARY:Labor Day - Spectrum Closed
DESCRIPTION:
URL:https://spectrumcreativearts.org/event/labor-day-spectrum-closed-6/
LOCATION:Spectrum Creative Arts\, 3300 Monroe Avenue\, Rochester\, NY\, 14618\, United States
CATEGORIES:Closings & Holidays
END:VEVENT
BEGIN:VEVENT
DTSTART;VALUE=DATE:20250704
DTEND;VALUE=DATE:20250705
DTSTAMP:20260424T001851
CREATED:20250609T232512Z
LAST-MODIFIED:20250609T232512Z
UID:10000175-1751587200-1751673599@spectrumcreativearts.org
SUMMARY:4th of July (Spectrum Closed)
DESCRIPTION:
URL:https://spectrumcreativearts.org/event/4th-of-july-spectrum-closed/2025-07-04/
LOCATION:Spectrum Creative Arts\, 3300 Monroe Avenue\, Rochester\, NY\, 14618\, United States
CATEGORIES:Closings & Holidays
END:VEVENT
BEGIN:VEVENT
DTSTART;VALUE=DATE:20231225
DTEND;VALUE=DATE:20231230
DTSTAMP:20260424T001851
CREATED:20230615T222959Z
LAST-MODIFIED:20230615T222959Z
UID:10000167-1703462400-1703894399@spectrumcreativearts.org
SUMMARY:Holiday Break - Spectrum Closed
DESCRIPTION:
URL:https://spectrumcreativearts.org/event/holiday-break-spectrum-closed-5/
LOCATION:Spectrum Creative Arts\, 3300 Monroe Avenue\, Rochester\, NY\, 14618\, United States
CATEGORIES:Closings & Holidays
END:VEVENT
BEGIN:VEVENT
DTSTART;VALUE=DATE:20231123
DTEND;VALUE=DATE:20231125
DTSTAMP:20260424T001851
CREATED:20230615T222902Z
LAST-MODIFIED:20230615T222902Z
UID:10000166-1700697600-1700870399@spectrumcreativearts.org
SUMMARY:Thanksgiving Break - Spectrum Closed
DESCRIPTION:
URL:https://spectrumcreativearts.org/event/thanksgiving-break-spectrum-closed-6/
LOCATION:Spectrum Creative Arts\, 3300 Monroe Avenue\, Rochester\, NY\, 14618\, United States
CATEGORIES:Closings & Holidays
END:VEVENT
BEGIN:VEVENT
DTSTART;VALUE=DATE:20230904
DTEND;VALUE=DATE:20230905
DTSTAMP:20260424T001851
CREATED:20230615T222813Z
LAST-MODIFIED:20230615T222813Z
UID:10000165-1693785600-1693871999@spectrumcreativearts.org
SUMMARY:Labor Day - Spectrum Closed
DESCRIPTION:
URL:https://spectrumcreativearts.org/event/labor-day-spectrum-closed-5/
LOCATION:Spectrum Creative Arts\, 3300 Monroe Avenue\, Rochester\, NY\, 14618\, United States
CATEGORIES:Closings & Holidays
END:VEVENT
BEGIN:VEVENT
DTSTART;VALUE=DATE:20230703
DTEND;VALUE=DATE:20230705
DTSTAMP:20260424T001851
CREATED:20230615T222731Z
LAST-MODIFIED:20230615T222731Z
UID:10000164-1688342400-1688515199@spectrumcreativearts.org
SUMMARY:July 4th Holiday - Spectrum Closed
DESCRIPTION:
URL:https://spectrumcreativearts.org/event/july-4th-holiday-spectrum-closed/
LOCATION:Spectrum Creative Arts\, 3300 Monroe Avenue\, Rochester\, NY\, 14618\, United States
CATEGORIES:Closings & Holidays
END:VEVENT
BEGIN:VEVENT
DTSTART;VALUE=DATE:20230529
DTEND;VALUE=DATE:20230530
DTSTAMP:20260424T001851
CREATED:20230615T221526Z
LAST-MODIFIED:20230615T221808Z
UID:10000161-1685318400-1685404799@spectrumcreativearts.org
SUMMARY:Memorial Day - Spectrum Closed
DESCRIPTION:
URL:https://spectrumcreativearts.org/event/memorial-day-spectrum-closed-3/
LOCATION:Spectrum Creative Arts\, 3300 Monroe Avenue\, Rochester\, NY\, 14618\, United States
CATEGORIES:Closings & Holidays
END:VEVENT
BEGIN:VEVENT
DTSTART;VALUE=DATE:20221219
DTEND;VALUE=DATE:20230101
DTSTAMP:20260424T001851
CREATED:20220928T172403Z
LAST-MODIFIED:20220928T172403Z
UID:10000160-1671408000-1672531199@spectrumcreativearts.org
SUMMARY:Holiday Break - Spectrum Closed
DESCRIPTION:
URL:https://spectrumcreativearts.org/event/holiday-break-spectrum-closed-4/
LOCATION:Spectrum Creative Arts\, 3300 Monroe Avenue\, Rochester\, NY\, 14618\, United States
CATEGORIES:Closings & Holidays
END:VEVENT
BEGIN:VEVENT
DTSTART;VALUE=DATE:20221124
DTEND;VALUE=DATE:20221127
DTSTAMP:20260424T001851
CREATED:20220928T172312Z
LAST-MODIFIED:20220928T172312Z
UID:10000159-1669248000-1669507199@spectrumcreativearts.org
SUMMARY:Thanksgiving Break - Spectrum Closed
DESCRIPTION:
URL:https://spectrumcreativearts.org/event/thanksgiving-break-spectrum-closed-5/
LOCATION:Spectrum Creative Arts\, 3300 Monroe Avenue\, Rochester\, NY\, 14618\, United States
CATEGORIES:Closings & Holidays
END:VEVENT
BEGIN:VEVENT
DTSTART;VALUE=DATE:20221111
DTEND;VALUE=DATE:20221112
DTSTAMP:20260424T001851
CREATED:20220928T172209Z
LAST-MODIFIED:20220928T172209Z
UID:10000158-1668124800-1668211199@spectrumcreativearts.org
SUMMARY:Veteran's Day - Spectrum Closed
DESCRIPTION:
URL:https://spectrumcreativearts.org/event/veterans-day-spectrum-closed-5/
LOCATION:Spectrum Creative Arts\, 3300 Monroe Avenue\, Rochester\, NY\, 14618\, United States
CATEGORIES:Closings & Holidays
END:VEVENT
BEGIN:VEVENT
DTSTART;VALUE=DATE:20221010
DTEND;VALUE=DATE:20221011
DTSTAMP:20260424T001851
CREATED:20220928T171511Z
LAST-MODIFIED:20220928T171511Z
UID:10000156-1665360000-1665446399@spectrumcreativearts.org
SUMMARY:Indigenous People's Day - Spectrum Closed
DESCRIPTION:
URL:https://spectrumcreativearts.org/event/indigenous-peoples-day-spectrum-closed-3/
LOCATION:Spectrum Creative Arts\, 3300 Monroe Avenue\, Rochester\, NY\, 14618\, United States
CATEGORIES:Closings & Holidays
END:VEVENT
BEGIN:VEVENT
DTSTART;VALUE=DATE:20220905
DTEND;VALUE=DATE:20220906
DTSTAMP:20260424T001851
CREATED:20220928T171428Z
LAST-MODIFIED:20220928T171428Z
UID:10000155-1662336000-1662422399@spectrumcreativearts.org
SUMMARY:Labor Day - Spectrum Closed
DESCRIPTION:
URL:https://spectrumcreativearts.org/event/labor-day-spectrum-closed-3/
LOCATION:Spectrum Creative Arts\, 3300 Monroe Avenue\, Rochester\, NY\, 14618\, United States
CATEGORIES:Closings & Holidays
END:VEVENT
BEGIN:VEVENT
DTSTART;VALUE=DATE:20220701
DTEND;VALUE=DATE:20220705
DTSTAMP:20260424T001851
CREATED:20220928T171347Z
LAST-MODIFIED:20220928T171347Z
UID:10000154-1656633600-1656979199@spectrumcreativearts.org
SUMMARY:July 4th Break - Spectrum Closed
DESCRIPTION:
URL:https://spectrumcreativearts.org/event/july-4th-break-spectrum-closed/
LOCATION:Spectrum Creative Arts\, 3300 Monroe Avenue\, Rochester\, NY\, 14618\, United States
CATEGORIES:Closings & Holidays
END:VEVENT
BEGIN:VEVENT
DTSTART;VALUE=DATE:20211220
DTEND;VALUE=DATE:20220103
DTSTAMP:20260424T001851
CREATED:20210713T001235Z
LAST-MODIFIED:20210713T001235Z
UID:10000149-1639958400-1641167999@spectrumcreativearts.org
SUMMARY:Holiday Break - Spectrum Closed
DESCRIPTION:
URL:https://spectrumcreativearts.org/event/holiday-break-spectrum-closed-3/
LOCATION:Spectrum Creative Arts\, 3300 Monroe Avenue\, Rochester\, NY\, 14618\, United States
CATEGORIES:Closings & Holidays
END:VEVENT
BEGIN:VEVENT
DTSTART;VALUE=DATE:20211124
DTEND;VALUE=DATE:20211128
DTSTAMP:20260424T001851
CREATED:20210713T001134Z
LAST-MODIFIED:20210713T001134Z
UID:10000148-1637712000-1638057599@spectrumcreativearts.org
SUMMARY:Thanksgiving Break - Spectrum Closed
DESCRIPTION:
URL:https://spectrumcreativearts.org/event/thanksgiving-break-spectrum-closed-4/
LOCATION:Spectrum Creative Arts\, 3300 Monroe Avenue\, Rochester\, NY\, 14618\, United States
CATEGORIES:Closings & Holidays
END:VEVENT
BEGIN:VEVENT
DTSTART;VALUE=DATE:20211111
DTEND;VALUE=DATE:20211112
DTSTAMP:20260424T001851
CREATED:20210713T001036Z
LAST-MODIFIED:20210713T001036Z
UID:10000147-1636588800-1636675199@spectrumcreativearts.org
SUMMARY:Veteran's Day - Spectrum Closed
DESCRIPTION:
URL:https://spectrumcreativearts.org/event/veterans-day-spectrum-closed-4/
LOCATION:Spectrum Creative Arts\, 3300 Monroe Avenue\, Rochester\, NY\, 14618\, United States
CATEGORIES:Closings & Holidays
END:VEVENT
BEGIN:VEVENT
DTSTART;VALUE=DATE:20211011
DTEND;VALUE=DATE:20211012
DTSTAMP:20260424T001851
CREATED:20210713T000936Z
LAST-MODIFIED:20210713T000936Z
UID:10000146-1633910400-1633996799@spectrumcreativearts.org
SUMMARY:Indigenous Peoples Day - Spectrum Closed
DESCRIPTION:
URL:https://spectrumcreativearts.org/event/indigenous-peoples-day-spectrum-closed-2/
LOCATION:Spectrum Creative Arts\, 3300 Monroe Avenue\, Rochester\, NY\, 14618\, United States
CATEGORIES:Closings & Holidays
END:VEVENT
BEGIN:VEVENT
DTSTART;VALUE=DATE:20210906
DTEND;VALUE=DATE:20210907
DTSTAMP:20260424T001851
CREATED:20210713T000837Z
LAST-MODIFIED:20210713T000837Z
UID:10000145-1630886400-1630972799@spectrumcreativearts.org
SUMMARY:Labor Day - Spectrum Closed
DESCRIPTION:
URL:https://spectrumcreativearts.org/event/labor-day-spectrum-closed-4/
LOCATION:Spectrum Creative Arts\, 3300 Monroe Avenue\, Rochester\, NY\, 14618\, United States
CATEGORIES:Closings & Holidays
END:VEVENT
BEGIN:VEVENT
DTSTART;VALUE=DATE:20210901
DTEND;VALUE=DATE:20210902
DTSTAMP:20260424T001851
CREATED:20210713T000735Z
LAST-MODIFIED:20210713T000735Z
UID:10000144-1630454400-1630540799@spectrumcreativearts.org
SUMMARY:Professional Development Day - No Sessions or Classes
DESCRIPTION:
URL:https://spectrumcreativearts.org/event/professional-development-day-no-sessions-or-classes/
LOCATION:Spectrum Creative Arts\, 3300 Monroe Avenue\, Rochester\, NY\, 14618\, United States
CATEGORIES:Closings & Holidays
END:VEVENT
BEGIN:VEVENT
DTSTART;VALUE=DATE:20210705
DTEND;VALUE=DATE:20210706
DTSTAMP:20260424T001851
CREATED:20210713T000637Z
LAST-MODIFIED:20210713T000637Z
UID:10000143-1625443200-1625529599@spectrumcreativearts.org
SUMMARY:4th of July (Observed) - Spectrum Closed
DESCRIPTION:
URL:https://spectrumcreativearts.org/event/4th-of-july-observed-spectrum-closed-2/
LOCATION:Spectrum Creative Arts\, 3300 Monroe Avenue\, Rochester\, NY\, 14618\, United States
CATEGORIES:Closings & Holidays
END:VEVENT
BEGIN:VEVENT
DTSTART;VALUE=DATE:20201221
DTEND;VALUE=DATE:20210103
DTSTAMP:20260424T001851
CREATED:20200818T175654Z
LAST-MODIFIED:20200818T175654Z
UID:10000095-1608508800-1609631999@spectrumcreativearts.org
SUMMARY:Holiday Break (Spectrum Closed)
DESCRIPTION:
URL:https://spectrumcreativearts.org/event/holiday-break-spectrum-closed-2/
LOCATION:NY
CATEGORIES:Closings & Holidays
END:VEVENT
BEGIN:VEVENT
DTSTART;VALUE=DATE:20201125
DTEND;VALUE=DATE:20201129
DTSTAMP:20260424T001851
CREATED:20200818T175525Z
LAST-MODIFIED:20200818T175525Z
UID:10000093-1606262400-1606607999@spectrumcreativearts.org
SUMMARY:Thanksgiving Break (Spectrum Closed)
DESCRIPTION:
URL:https://spectrumcreativearts.org/event/thanksgiving-break-spectrum-closed-3/
LOCATION:NY
CATEGORIES:Closings & Holidays
END:VEVENT
BEGIN:VEVENT
DTSTART;VALUE=DATE:20201111
DTEND;VALUE=DATE:20201112
DTSTAMP:20260424T001851
CREATED:20200818T175427Z
LAST-MODIFIED:20200818T175427Z
UID:10000091-1605052800-1605139199@spectrumcreativearts.org
SUMMARY:Veteran's Day (Spectrum Closed)
DESCRIPTION:
URL:https://spectrumcreativearts.org/event/veterans-day-spectrum-closed-3/
LOCATION:NY
CATEGORIES:Closings & Holidays
END:VEVENT
BEGIN:VEVENT
DTSTART;VALUE=DATE:20201012
DTEND;VALUE=DATE:20201013
DTSTAMP:20260424T001851
CREATED:20200818T175331Z
LAST-MODIFIED:20200818T175331Z
UID:10000081-1602460800-1602547199@spectrumcreativearts.org
SUMMARY:Indigenous Peoples Day (Spectrum Closed)
DESCRIPTION:
URL:https://spectrumcreativearts.org/event/indigenous-peoples-day-spectrum-closed/
LOCATION:NY
CATEGORIES:Closings & Holidays
END:VEVENT
BEGIN:VEVENT
DTSTART;VALUE=DATE:20200908
DTEND;VALUE=DATE:20200909
DTSTAMP:20260424T001851
CREATED:20200818T174905Z
LAST-MODIFIED:20200818T174905Z
UID:10000083-1599523200-1599609599@spectrumcreativearts.org
SUMMARY:Spectrum Reopens for Limited In-Person Sessions
DESCRIPTION:
URL:https://spectrumcreativearts.org/event/spectrum-reopens-for-limited-in-person-sessions/
LOCATION:NY
CATEGORIES:Closings & Holidays
END:VEVENT
BEGIN:VEVENT
DTSTART;VALUE=DATE:20200907
DTEND;VALUE=DATE:20200908
DTSTAMP:20260424T001851
CREATED:20200818T174738Z
LAST-MODIFIED:20200818T174738Z
UID:10000082-1599436800-1599523199@spectrumcreativearts.org
SUMMARY:Labor Day (Spectrum Closed)
DESCRIPTION:
URL:https://spectrumcreativearts.org/event/labor-day-spectrum-closed-2/
LOCATION:NY
CATEGORIES:Closings & Holidays
END:VEVENT
BEGIN:VEVENT
DTSTART;VALUE=DATE:20200904
DTEND;VALUE=DATE:20200905
DTSTAMP:20260424T001851
CREATED:20200818T174654Z
LAST-MODIFIED:20200818T174654Z
UID:10000089-1599177600-1599263999@spectrumcreativearts.org
SUMMARY:Staff Development Day (Spectrum Closed)
DESCRIPTION:
URL:https://spectrumcreativearts.org/event/staff-development-day-spectrum-closed/
LOCATION:NY
CATEGORIES:Closings & Holidays
END:VEVENT
BEGIN:VEVENT
DTSTART;VALUE=DATE:20200703
DTEND;VALUE=DATE:20200704
DTSTAMP:20260424T001851
CREATED:20200611T194211Z
LAST-MODIFIED:20200611T194211Z
UID:10000025-1593734400-1593820799@spectrumcreativearts.org
SUMMARY:4th of July (observed) - Spectrum Closed
DESCRIPTION:
URL:https://spectrumcreativearts.org/event/4th-of-july-observed-spectrum-closed/
LOCATION:NY
CATEGORIES:Closings & Holidays
END:VEVENT
BEGIN:VEVENT
DTSTART;VALUE=DATE:20200525
DTEND;VALUE=DATE:20200526
DTSTAMP:20260424T001851
CREATED:20200611T193908Z
LAST-MODIFIED:20200611T193908Z
UID:10000006-1590364800-1590451199@spectrumcreativearts.org
SUMMARY:Memorial Day - Spectrum Closed
DESCRIPTION:
URL:https://spectrumcreativearts.org/event/memorial-day-spectrum-closed-2/
LOCATION:NY
CATEGORIES:Closings & Holidays
END:VEVENT
BEGIN:VEVENT
DTSTART;VALUE=DATE:20200406
DTEND;VALUE=DATE:20200412
DTSTAMP:20260424T001851
CREATED:20200226T021447Z
LAST-MODIFIED:20200226T021447Z
UID:10000074-1586131200-1586649599@spectrumcreativearts.org
SUMMARY:Spring Break (Spectrum Closed)
DESCRIPTION:
URL:https://spectrumcreativearts.org/event/spring-break-spectrum-closed-2/
LOCATION:NY
CATEGORIES:Closings & Holidays
END:VEVENT
END:VCALENDAR